BEGIN:VCALENDAR
VERSION:2.0
PRODID:-//hacksw/handcal//NONSGML v1.0//EN
CALSCALE:GREGORIAN
BEGIN:VTIMEZONE
TZID:Europe/Berlin
X-LIC-LOCATION:Europe/Berlin
BEGIN:DAYLIGHT
TZOFFSETFROM:+0100
TZOFFSETTO:+0200
TZNAME:CEST
DTSTART:19700329T020000
RRULE:FREQ=YEARLY;BYDAY=-1SU;BYMONTH=3
END:DAYLIGHT
BEGIN:STANDARD
TZOFFSETFROM:+0200
TZOFFSETTO:+0100
TZNAME:CET
DTSTART:19701025T030000
RRULE:FREQ=YEARLY;BYDAY=-1SU;BYMONTH=10
END:STANDARD
END:VTIMEZONE
BEGIN:VEVENT
DTEND;TZID=Europe/Berlin:20250502T211500
UID:69ed47aa33931
DTSTAMP:20260426T010058
LOCATION:Am Mühlenberg 1\, 51688 Wipperfürth
DESCRIPTION:Der FB Jugend und Familie der Stadt Gummersbach bietet an:\r\n\r\nGrundkurs für Jugendgruppenleiter/innen im Mai 2025 in Wipperfürth\r\n\r\nDas Jugendamt der Hansestadt Wipperfürth bietet in Kooperation mit den Jugendämtern Gummersbach und Radevormwald wieder einen Grundkurs für Jugendgruppenleiter/innen an. Es handelt sich hierbei um eine 5-tägige Schulung. \r\n\r\nEingeladen sind Jugendliche ab 16 Jahren und Erwachsene\, die bereits bei einem Verband/Verein\, bei einer Kirchengemeinde oder im Bereich der offenen Jugendarbeit als Gruppenleiter/innen oder Helfer/innen tätig sind (regelmäßig Gruppenstunden\, sporadischer Einsatz bei Festen oder großen Veranstaltungen\, Filmnachmittage\, Disco\, Ferienfreizeiten etc.) und sich durch die Teilnahme an einem Gruppenleiterkurs fachlich qualifizieren bzw. neue Anregungen holen wollen.\r\n\r\nAm Ende des Kurses steht für alle TeilnehmerInnen eine schriftliche Abschlussprüfung zur Erlangung der bundeseinheitlichen JuLeiCa. Der 1. Hilfe-Kurs muss extern absolviert werden. \r\n\r\nDie Teilnahme an allen 5 Tagen der Schulung ist verbindlich!\r\n\r\nIm Jugendgruppenleiterkurs werden die folgenden Themen vermittelt:\r\nSpiel in der Jugendarbeit\, Gruppenpädagogik\, Entwicklungspsychologie\, Rollen in der Gruppe\, Aufsichtspflicht und Haftung\, § 8a SGB VIII - Schutzauftrag bei Kindeswohlgefährdung\, Inklusion in der OKJA\, Partizipation\, Jugendschutzgesetzgebung\, Organisationen von Ferienfreizeiten\, praktische Einheiten im Bereich der Erlebnispädagogik.\r\n\r\nFür die Teilnahme an diesem Kurs entstehen Gebühren in Höhe von 95\,00 € (mit Wipperfürther Familienpass 50% Ermäßigung). \r\n
URL;VALUE=URI:https://www.unser-ferienprogramm.de/gummersbach/veranstaltung.php?id=244418
SUMMARY:1. Grundkurs für Jugendgruppenleiter/innen
DTSTART;TZID=Europe/Berlin:20250502T180000
END:VEVENT


BEGIN:VEVENT
DTEND;TZID=Europe/Berlin:20250503T213000
UID:69ed47aa339871
DTSTAMP:20260426T010058
LOCATION:Am Mühlenberg 1\, 51688 Wipperfürth
DESCRIPTION:Der FB Jugend und Familie der Stadt Gummersbach bietet an:\r\n\r\nGrundkurs für Jugendgruppenleiter/innen im Mai 2025 in Wipperfürth\r\n\r\nDas Jugendamt der Hansestadt Wipperfürth bietet in Kooperation mit den Jugendämtern Gummersbach und Radevormwald wieder einen Grundkurs für Jugendgruppenleiter/innen an. Es handelt sich hierbei um eine 5-tägige Schulung. \r\n\r\nEingeladen sind Jugendliche ab 16 Jahren und Erwachsene\, die bereits bei einem Verband/Verein\, bei einer Kirchengemeinde oder im Bereich der offenen Jugendarbeit als Gruppenleiter/innen oder Helfer/innen tätig sind (regelmäßig Gruppenstunden\, sporadischer Einsatz bei Festen oder großen Veranstaltungen\, Filmnachmittage\, Disco\, Ferienfreizeiten etc.) und sich durch die Teilnahme an einem Gruppenleiterkurs fachlich qualifizieren bzw. neue Anregungen holen wollen.\r\n\r\nAm Ende des Kurses steht für alle TeilnehmerInnen eine schriftliche Abschlussprüfung zur Erlangung der bundeseinheitlichen JuLeiCa. Der 1. Hilfe-Kurs muss extern absolviert werden. \r\n\r\nDie Teilnahme an allen 5 Tagen der Schulung ist verbindlich!\r\n\r\nIm Jugendgruppenleiterkurs werden die folgenden Themen vermittelt:\r\nSpiel in der Jugendarbeit\, Gruppenpädagogik\, Entwicklungspsychologie\, Rollen in der Gruppe\, Aufsichtspflicht und Haftung\, § 8a SGB VIII - Schutzauftrag bei Kindeswohlgefährdung\, Inklusion in der OKJA\, Partizipation\, Jugendschutzgesetzgebung\, Organisationen von Ferienfreizeiten\, praktische Einheiten im Bereich der Erlebnispädagogik.\r\n\r\nFür die Teilnahme an diesem Kurs entstehen Gebühren in Höhe von 95\,00 € (mit Wipperfürther Familienpass 50% Ermäßigung). \r\n
URL;VALUE=URI:https://www.unser-ferienprogramm.de/gummersbach/veranstaltung.php?id=244418
SUMMARY:1. Grundkurs für Jugendgruppenleiter/innen
DTSTART;TZID=Europe/Berlin:20250503T090000
END:VEVENT


BEGIN:VEVENT
DTEND;TZID=Europe/Berlin:20250504T164500
UID:69ed47aa339a02
DTSTAMP:20260426T010058
LOCATION:Am Mühlenberg 1\, 51688 Wipperfürth
DESCRIPTION:Der FB Jugend und Familie der Stadt Gummersbach bietet an:\r\n\r\nGrundkurs für Jugendgruppenleiter/innen im Mai 2025 in Wipperfürth\r\n\r\nDas Jugendamt der Hansestadt Wipperfürth bietet in Kooperation mit den Jugendämtern Gummersbach und Radevormwald wieder einen Grundkurs für Jugendgruppenleiter/innen an. Es handelt sich hierbei um eine 5-tägige Schulung. \r\n\r\nEingeladen sind Jugendliche ab 16 Jahren und Erwachsene\, die bereits bei einem Verband/Verein\, bei einer Kirchengemeinde oder im Bereich der offenen Jugendarbeit als Gruppenleiter/innen oder Helfer/innen tätig sind (regelmäßig Gruppenstunden\, sporadischer Einsatz bei Festen oder großen Veranstaltungen\, Filmnachmittage\, Disco\, Ferienfreizeiten etc.) und sich durch die Teilnahme an einem Gruppenleiterkurs fachlich qualifizieren bzw. neue Anregungen holen wollen.\r\n\r\nAm Ende des Kurses steht für alle TeilnehmerInnen eine schriftliche Abschlussprüfung zur Erlangung der bundeseinheitlichen JuLeiCa. Der 1. Hilfe-Kurs muss extern absolviert werden. \r\n\r\nDie Teilnahme an allen 5 Tagen der Schulung ist verbindlich!\r\n\r\nIm Jugendgruppenleiterkurs werden die folgenden Themen vermittelt:\r\nSpiel in der Jugendarbeit\, Gruppenpädagogik\, Entwicklungspsychologie\, Rollen in der Gruppe\, Aufsichtspflicht und Haftung\, § 8a SGB VIII - Schutzauftrag bei Kindeswohlgefährdung\, Inklusion in der OKJA\, Partizipation\, Jugendschutzgesetzgebung\, Organisationen von Ferienfreizeiten\, praktische Einheiten im Bereich der Erlebnispädagogik.\r\n\r\nFür die Teilnahme an diesem Kurs entstehen Gebühren in Höhe von 95\,00 € (mit Wipperfürther Familienpass 50% Ermäßigung). \r\n
URL;VALUE=URI:https://www.unser-ferienprogramm.de/gummersbach/veranstaltung.php?id=244418
SUMMARY:1. Grundkurs für Jugendgruppenleiter/innen
DTSTART;TZID=Europe/Berlin:20250504T090000
END:VEVENT

END:VCALENDAR
