BEGIN:VCALENDAR
VERSION:2.0
PRODID:-//hacksw/handcal//NONSGML v1.0//EN
CALSCALE:GREGORIAN
BEGIN:VTIMEZONE
TZID:Europe/Berlin
X-LIC-LOCATION:Europe/Berlin
BEGIN:DAYLIGHT
TZOFFSETFROM:+0100
TZOFFSETTO:+0200
TZNAME:CEST
DTSTART:19700329T020000
RRULE:FREQ=YEARLY;BYDAY=-1SU;BYMONTH=3
END:DAYLIGHT
BEGIN:STANDARD
TZOFFSETFROM:+0200
TZOFFSETTO:+0100
TZNAME:CET
DTSTART:19701025T030000
RRULE:FREQ=YEARLY;BYDAY=-1SU;BYMONTH=10
END:STANDARD
END:VTIMEZONE
BEGIN:VEVENT
DTEND;TZID=Europe/Berlin:20260808T140000
UID:69ea5a64eafa0
DTSTAMP:20260423T194404
LOCATION:Saarhölzbach im Saarland
DESCRIPTION:Seit 1995 fährt das Zeltlager der Kolpingjugend Avenwedde jedes Jahr in ein Sommerabenteuer. \r\nCa. 50 Kinder finden Platz\, betreut von ca. 15 ehrenamtlichen Betreuer*innen im Alter von 18 bis 30 Jahren. Untergebracht sind die Kinder in einem robusten\, gemütlichen Rundzelt mit dichtem Dach\, Folienboden und Vorzelt. Sie erleben Wandern\, Radfahren\, Schwimmen\, Basteln\, Werken\, Nachtwanderungen\, Stockbrot am Lagerfeuer und Ausflüge zum Badesee. Abends stehen gemeinsame Spiele oder sportliche Aktivitäten auf dem Programm\, dazu freie Zeit oder Partys – Raum für Gemeinschaft\, Spaß und Naturerlebnis.\r\n\r\n
URL;VALUE=URI:https://www.unser-ferienprogramm.de/guetersloh/veranstaltung.php?id=307157
SUMMARY:Zeltlager der Kolpingjugend Avenwedde
DTSTART;TZID=Europe/Berlin:20260726T100000
END:VEVENT

END:VCALENDAR
