BEGIN:VCALENDAR
VERSION:2.0
PRODID:-//hacksw/handcal//NONSGML v1.0//EN
CALSCALE:GREGORIAN
BEGIN:VTIMEZONE
TZID:Europe/Berlin
X-LIC-LOCATION:Europe/Berlin
BEGIN:DAYLIGHT
TZOFFSETFROM:+0100
TZOFFSETTO:+0200
TZNAME:CEST
DTSTART:19700329T020000
RRULE:FREQ=YEARLY;BYDAY=-1SU;BYMONTH=3
END:DAYLIGHT
BEGIN:STANDARD
TZOFFSETFROM:+0200
TZOFFSETTO:+0100
TZNAME:CET
DTSTART:19701025T030000
RRULE:FREQ=YEARLY;BYDAY=-1SU;BYMONTH=10
END:STANDARD
END:VTIMEZONE
BEGIN:VEVENT
DTEND;TZID=Europe/Berlin:20260330T120000
UID:69ea8271649c8
DTSTAMP:20260423T223457
LOCATION:Reitanlage des Reit- und Fahrverein Avenwedde e.V.\, Immelstraße 126
DESCRIPTION:Einführungskurs
URL;VALUE=URI:https://www.unser-ferienprogramm.de/guetersloh/veranstaltung.php?id=305671
SUMMARY:Voltigieren
DTSTART;TZID=Europe/Berlin:20260330T103000
END:VEVENT


BEGIN:VEVENT
DTEND;TZID=Europe/Berlin:20260331T120000
UID:69ea8271649de1
DTSTAMP:20260423T223457
LOCATION:Reitanlage des Reit- und Fahrverein Avenwedde e.V.\, Immelstraße 126
DESCRIPTION:Einführungskurs
URL;VALUE=URI:https://www.unser-ferienprogramm.de/guetersloh/veranstaltung.php?id=305671
SUMMARY:Voltigieren
DTSTART;TZID=Europe/Berlin:20260331T103000
END:VEVENT


BEGIN:VEVENT
DTEND;TZID=Europe/Berlin:20260401T120000
UID:69ea8271649ea2
DTSTAMP:20260423T223457
LOCATION:Reitanlage des Reit- und Fahrverein Avenwedde e.V.\, Immelstraße 126
DESCRIPTION:Einführungskurs
URL;VALUE=URI:https://www.unser-ferienprogramm.de/guetersloh/veranstaltung.php?id=305671
SUMMARY:Voltigieren
DTSTART;TZID=Europe/Berlin:20260401T103000
END:VEVENT

END:VCALENDAR
