BEGIN:VCALENDAR
VERSION:2.0
PRODID:-//hacksw/handcal//NONSGML v1.0//EN
CALSCALE:GREGORIAN
BEGIN:VTIMEZONE
TZID:Europe/Berlin
X-LIC-LOCATION:Europe/Berlin
BEGIN:DAYLIGHT
TZOFFSETFROM:+0100
TZOFFSETTO:+0200
TZNAME:CEST
DTSTART:19700329T020000
RRULE:FREQ=YEARLY;BYDAY=-1SU;BYMONTH=3
END:DAYLIGHT
BEGIN:STANDARD
TZOFFSETFROM:+0200
TZOFFSETTO:+0100
TZNAME:CET
DTSTART:19701025T030000
RRULE:FREQ=YEARLY;BYDAY=-1SU;BYMONTH=10
END:STANDARD
END:VTIMEZONE
BEGIN:VEVENT
DTEND;TZID=Europe/Berlin:20260407T120000
UID:69ea837078da2
DTSTAMP:20260423T223912
LOCATION:Malteser Hilfsdienst e. V.\, Werner-von-Siemens Straße 28
DESCRIPTION:Bei den Maltesern erfährst du alles zum Thema Helfen – vom Pflaster kleben bis zur stabilen Seitenlage. Du bekommst vielfältige Materialien\, Ideen und Anregungen. Natürlich schauen wir uns auch einen Rettungswagen genau an. Viel Abwechslung und Spaß erwarten dich!
URL;VALUE=URI:https://www.unser-ferienprogramm.de/guetersloh/veranstaltung.php?id=303554
SUMMARY:Abenteuer Helfen – Erste Hilfe Kurs für Kinder
DTSTART;TZID=Europe/Berlin:20260407T090000
END:VEVENT


BEGIN:VEVENT
DTEND;TZID=Europe/Berlin:20260408T120000
UID:69ea837078dbb1
DTSTAMP:20260423T223912
LOCATION:Malteser Hilfsdienst e. V.\, Werner-von-Siemens Straße 28
DESCRIPTION:Bei den Maltesern erfährst du alles zum Thema Helfen – vom Pflaster kleben bis zur stabilen Seitenlage. Du bekommst vielfältige Materialien\, Ideen und Anregungen. Natürlich schauen wir uns auch einen Rettungswagen genau an. Viel Abwechslung und Spaß erwarten dich!
URL;VALUE=URI:https://www.unser-ferienprogramm.de/guetersloh/veranstaltung.php?id=303554
SUMMARY:Abenteuer Helfen – Erste Hilfe Kurs für Kinder
DTSTART;TZID=Europe/Berlin:20260408T090000
END:VEVENT


BEGIN:VEVENT
DTEND;TZID=Europe/Berlin:20260409T120000
UID:69ea837078dc72
DTSTAMP:20260423T223912
LOCATION:Malteser Hilfsdienst e. V.\, Werner-von-Siemens Straße 28
DESCRIPTION:Bei den Maltesern erfährst du alles zum Thema Helfen – vom Pflaster kleben bis zur stabilen Seitenlage. Du bekommst vielfältige Materialien\, Ideen und Anregungen. Natürlich schauen wir uns auch einen Rettungswagen genau an. Viel Abwechslung und Spaß erwarten dich!
URL;VALUE=URI:https://www.unser-ferienprogramm.de/guetersloh/veranstaltung.php?id=303554
SUMMARY:Abenteuer Helfen – Erste Hilfe Kurs für Kinder
DTSTART;TZID=Europe/Berlin:20260409T090000
END:VEVENT

END:VCALENDAR
