BEGIN:VCALENDAR
VERSION:2.0
PRODID:-//hacksw/handcal//NONSGML v1.0//EN
CALSCALE:GREGORIAN
BEGIN:VTIMEZONE
TZID:Europe/Berlin
X-LIC-LOCATION:Europe/Berlin
BEGIN:DAYLIGHT
TZOFFSETFROM:+0100
TZOFFSETTO:+0200
TZNAME:CEST
DTSTART:19700329T020000
RRULE:FREQ=YEARLY;BYDAY=-1SU;BYMONTH=3
END:DAYLIGHT
BEGIN:STANDARD
TZOFFSETFROM:+0200
TZOFFSETTO:+0100
TZNAME:CET
DTSTART:19701025T030000
RRULE:FREQ=YEARLY;BYDAY=-1SU;BYMONTH=10
END:STANDARD
END:VTIMEZONE
BEGIN:VEVENT
DTEND;TZID=Europe/Berlin:20260330T163000
UID:69ea846425d44
DTSTAMP:20260423T224316
LOCATION:Elly-Heuss-Knapp Realschule\, Moltkestr. 13
DESCRIPTION:Lust auf Bewegung? Dann könnte Capoeira genau das Richtige für dich sein! Ursprünglich war Capoeira ein als Tanz getarnter Kampf\, der von afrikanischen Sklaven in Brasilien während der Kolonialisierung zur Befreiung und Selbstverteidigung entwickelt wurde. An diesem Schnuppertag bekommst du einen lebendigen Einblick in die Welt dieser dynamischen Kampfsportkunst und erlernst bereits einige einfache Grundtechniken.\r\n\r\n
URL;VALUE=URI:https://www.unser-ferienprogramm.de/guetersloh/veranstaltung.php?id=302821
SUMMARY:Capoeira (1)
DTSTART;TZID=Europe/Berlin:20260330T150000
END:VEVENT

END:VCALENDAR
