BEGIN:VCALENDAR
VERSION:2.0
PRODID:-//hacksw/handcal//NONSGML v1.0//EN
CALSCALE:GREGORIAN
BEGIN:VTIMEZONE
TZID:Europe/Berlin
X-LIC-LOCATION:Europe/Berlin
BEGIN:DAYLIGHT
TZOFFSETFROM:+0100
TZOFFSETTO:+0200
TZNAME:CEST
DTSTART:19700329T020000
RRULE:FREQ=YEARLY;BYDAY=-1SU;BYMONTH=3
END:DAYLIGHT
BEGIN:STANDARD
TZOFFSETFROM:+0200
TZOFFSETTO:+0100
TZNAME:CET
DTSTART:19701025T030000
RRULE:FREQ=YEARLY;BYDAY=-1SU;BYMONTH=10
END:STANDARD
END:VTIMEZONE
BEGIN:VEVENT
DTEND;TZID=Europe/Berlin:20260331T153000
UID:69ea83e1eff04
DTSTAMP:20260423T224105
LOCATION:Garten der Familie Flötotto\, Immelstraße 176A\, 33335 Gütersloh
DESCRIPTION:Können Regenwürmer hören? Haben sie Augen? Wie sieht ein Regenwurm unter der Lupe aus? Wie lang wird ein Regenwurm und was haben Bodybuilder mit ihnen gemeinsam? \r\nIn unserer Regenwurm-Forscherwerkstatt gehen echte Naturforscher diesen und vielen anderen spannenden Fragen auf den Grund! Gemeinsam beobachten wir Regenwürmer ganz genau\, entdecken ihre besonderen Fähigkeiten und erfahren\, warum sie für unsere Böden so wichtig sind.\r\nDen Kurs leitet Lillian Kontny.
URL;VALUE=URI:https://www.unser-ferienprogramm.de/guetersloh/veranstaltung.php?id=302453
SUMMARY:Die Regenwurm-Forscherwerkstatt (2)
DTSTART;TZID=Europe/Berlin:20260331T133000
END:VEVENT

END:VCALENDAR
