BEGIN:VCALENDAR
VERSION:2.0
PRODID:-//hacksw/handcal//NONSGML v1.0//EN
CALSCALE:GREGORIAN
BEGIN:VTIMEZONE
TZID:Europe/Berlin
X-LIC-LOCATION:Europe/Berlin
BEGIN:DAYLIGHT
TZOFFSETFROM:+0100
TZOFFSETTO:+0200
TZNAME:CEST
DTSTART:19700329T020000
RRULE:FREQ=YEARLY;BYDAY=-1SU;BYMONTH=3
END:DAYLIGHT
BEGIN:STANDARD
TZOFFSETFROM:+0200
TZOFFSETTO:+0100
TZNAME:CET
DTSTART:19701025T030000
RRULE:FREQ=YEARLY;BYDAY=-1SU;BYMONTH=10
END:STANDARD
END:VTIMEZONE
BEGIN:VEVENT
DTEND;TZID=Europe/Berlin:20260401T170000
UID:69ea8370f2fee
DTSTAMP:20260423T223912
LOCATION:Hof Roggenkamp\, Blankenhagener Weg 325 (Nähe Postdamm)\,  33334 Gütersloh
DESCRIPTION:Im Frühjahr erwacht die Natur zum Leben. Samen und Kartoffeln keimen. Lämmer werden geboren. Du darfst die Schafe und Lämmer des kleinen Bauernhofes versorgen. Außerdem gibt es sicherlich Futterrüben\, Salatpflanzen oder anderes Gemüse zum Aussäen oder Auspflanzen. Wenn wir noch Zeit und Lust haben\, können wir mit Schafwolle\, Filznadeln und Förmchen kleine Schafe oder Figuren selber filzen.\r\nDen Kurs leitet Ulrike Eggersglüß.\r\n
URL;VALUE=URI:https://www.unser-ferienprogramm.de/guetersloh/veranstaltung.php?id=302437
SUMMARY:Schafe\, Acker und mehr
DTSTART;TZID=Europe/Berlin:20260401T143000
END:VEVENT

END:VCALENDAR
