BEGIN:VCALENDAR
VERSION:2.0
PRODID:-//hacksw/handcal//NONSGML v1.0//EN
CALSCALE:GREGORIAN
BEGIN:VTIMEZONE
TZID:Europe/Berlin
X-LIC-LOCATION:Europe/Berlin
BEGIN:DAYLIGHT
TZOFFSETFROM:+0100
TZOFFSETTO:+0200
TZNAME:CEST
DTSTART:19700329T020000
RRULE:FREQ=YEARLY;BYDAY=-1SU;BYMONTH=3
END:DAYLIGHT
BEGIN:STANDARD
TZOFFSETFROM:+0200
TZOFFSETTO:+0100
TZNAME:CET
DTSTART:19701025T030000
RRULE:FREQ=YEARLY;BYDAY=-1SU;BYMONTH=10
END:STANDARD
END:VTIMEZONE
BEGIN:VEVENT
DTEND;TZID=Europe/Berlin:20260408T130000
UID:69ea839fe4c81
DTSTAMP:20260423T223959
LOCATION:Kreativraum PINKE ENTE\, Hohenzollernstraße 1a\,
DESCRIPTION:Probiere den DIY-Trend Tufting aus!\r\nHier kannst du dir mit Hilfe der Tufting-Technik einen kleinen  eigenen Teppich herstellen. \r\nDu schießt mit einer Tufting-Gun Wollbüschel in ein gespanntes Tuch\, so dass dein individueller Teppich entsteht. \r\n\r\n\r\n
URL;VALUE=URI:https://www.unser-ferienprogramm.de/guetersloh/veranstaltung.php?id=302302
SUMMARY:Teppich erstellen mit der Tufting-Technik
DTSTART;TZID=Europe/Berlin:20260408T100000
END:VEVENT

END:VCALENDAR
