BEGIN:VCALENDAR
VERSION:2.0
PRODID:-//hacksw/handcal//NONSGML v1.0//EN
CALSCALE:GREGORIAN
BEGIN:VTIMEZONE
TZID:Europe/Berlin
X-LIC-LOCATION:Europe/Berlin
BEGIN:DAYLIGHT
TZOFFSETFROM:+0100
TZOFFSETTO:+0200
TZNAME:CEST
DTSTART:19700329T020000
RRULE:FREQ=YEARLY;BYDAY=-1SU;BYMONTH=3
END:DAYLIGHT
BEGIN:STANDARD
TZOFFSETFROM:+0200
TZOFFSETTO:+0100
TZNAME:CET
DTSTART:19701025T030000
RRULE:FREQ=YEARLY;BYDAY=-1SU;BYMONTH=10
END:STANDARD
END:VTIMEZONE
BEGIN:VEVENT
DTEND;TZID=Europe/Berlin:20260407T130000
UID:69ea954e7c062
DTSTAMP:20260423T235526
LOCATION:Sporthalle der Grundschule Kattenstroth\, Ludwigstraße 11
DESCRIPTION:Bist du sportlich unterwegs\, übst du bereits Yoga oder möchtest es gerne kennenlernen?\r\nDann bis du hier\, beim Yoga\, genau richtig. Und es wird dich überraschen\, dass Yoga super viel Spaß macht und gleichzeitig tust du etwas für deine Fitness. In Verbindung mit den Übungen kommst du in die Entspannung und insgesamt wird deine Kreativität gefördert\, deine Konzentration und Ausdauer gestärkt. \r\n\r\n\r\n
URL;VALUE=URI:https://www.unser-ferienprogramm.de/guetersloh/veranstaltung.php?id=301664
SUMMARY:Yoga für Kids (4)
DTSTART;TZID=Europe/Berlin:20260407T090000
END:VEVENT

END:VCALENDAR
