BEGIN:VCALENDAR
VERSION:2.0
PRODID:-//hacksw/handcal//NONSGML v1.0//EN
CALSCALE:GREGORIAN
BEGIN:VTIMEZONE
TZID:Europe/Berlin
X-LIC-LOCATION:Europe/Berlin
BEGIN:DAYLIGHT
TZOFFSETFROM:+0100
TZOFFSETTO:+0200
TZNAME:CEST
DTSTART:19700329T020000
RRULE:FREQ=YEARLY;BYDAY=-1SU;BYMONTH=3
END:DAYLIGHT
BEGIN:STANDARD
TZOFFSETFROM:+0200
TZOFFSETTO:+0100
TZNAME:CET
DTSTART:19701025T030000
RRULE:FREQ=YEARLY;BYDAY=-1SU;BYMONTH=10
END:STANDARD
END:VTIMEZONE
BEGIN:VEVENT
DTEND;TZID=Europe/Berlin:20260401T120000
UID:69ea8398c78f1
DTSTAMP:20260423T223952
LOCATION:Kiebitzhof Reithalle\, Rhedaer Straße 214  (Wertkreis Gütersloh gGmbH)
DESCRIPTION:Entspannt die Ponywelt entdecken – für Kinder (fast) ohne Vor-Erfahrung\r\n\r\nWas du hier erleben und entdecken kannst:\r\n* Die Ponys und den Stall kennenlernen  \r\n* Ponys pflegen\, führen und reiten\r\n* Bastel- und Malecke\r\n* Eine gemeinsame Pause (Essen & Trinken bitte mitbringen) \r\n\r\nDies ist ein inklusives Angebot.
URL;VALUE=URI:https://www.unser-ferienprogramm.de/guetersloh/veranstaltung.php?id=301528
SUMMARY:Die Ponywelt entdecken (1)
DTSTART;TZID=Europe/Berlin:20260401T090000
END:VEVENT

END:VCALENDAR
