BEGIN:VCALENDAR
VERSION:2.0
PRODID:-//hacksw/handcal//NONSGML v1.0//EN
CALSCALE:GREGORIAN
BEGIN:VTIMEZONE
TZID:Europe/Berlin
X-LIC-LOCATION:Europe/Berlin
BEGIN:DAYLIGHT
TZOFFSETFROM:+0100
TZOFFSETTO:+0200
TZNAME:CEST
DTSTART:19700329T020000
RRULE:FREQ=YEARLY;BYDAY=-1SU;BYMONTH=3
END:DAYLIGHT
BEGIN:STANDARD
TZOFFSETFROM:+0200
TZOFFSETTO:+0100
TZNAME:CET
DTSTART:19701025T030000
RRULE:FREQ=YEARLY;BYDAY=-1SU;BYMONTH=10
END:STANDARD
END:VTIMEZONE
BEGIN:VEVENT
DTEND;TZID=Europe/Berlin:20260407T160000
UID:69ea6ec2e7eee
DTSTAMP:20260423T211058
LOCATION:Toppmannsweg 68\, 33659 Bielefeld
DESCRIPTION:Beim Abenteuer Pferdehof dreht sich alles um Ponys\, Pferde und jede Menge Spaß in der Natur!\r\nEine Woche lang tauchen die Kinder auf dem wunderschönen Hof von Janine am Toppmannsweg 68 in Bielefeld in die Welt der Pferde ein – mit ganz viel Bewegung\, frischer Luft und glücklichen Momenten.\r\nHier entsteht ein besonderer Ort\, an dem Kinder und Tiere sich auf Augenhöhe begegnen. Mit viel Geduld\, Herz und Fachwissen schaffen wir ein Umfeld\, in dem Vertrauen\, Verantwortung und Freude wachsen können.\r\nUnser ganzheitlicher Ansatz verbindet spielerisches Lernen mit echten Erlebnissen:\r\n• Pflegen\, Versorgen & Putzen: Das Pferd als Freund kennenlernen und Verantwortung übernehmen\r\n• Führen & Tragen: Sicherheit und Selbstbewusstsein im Umgang mit dem Tier gewinnen.\r\n• Erleben & Entdecken: Spaß mit Pferd\, Natur und neuen Freundschaften steht im Mittelpunkt!\r\n
URL;VALUE=URI:https://www.unser-ferienprogramm.de/guetersloh/veranstaltung.php?id=300904
SUMMARY:Abenteuer Pferdehof (Ostern)
DTSTART;TZID=Europe/Berlin:20260407T090000
END:VEVENT


BEGIN:VEVENT
DTEND;TZID=Europe/Berlin:20260408T160000
UID:69ea6ec2e7f311
DTSTAMP:20260423T211058
LOCATION:Toppmannsweg 68\, 33659 Bielefeld
DESCRIPTION:Beim Abenteuer Pferdehof dreht sich alles um Ponys\, Pferde und jede Menge Spaß in der Natur!\r\nEine Woche lang tauchen die Kinder auf dem wunderschönen Hof von Janine am Toppmannsweg 68 in Bielefeld in die Welt der Pferde ein – mit ganz viel Bewegung\, frischer Luft und glücklichen Momenten.\r\nHier entsteht ein besonderer Ort\, an dem Kinder und Tiere sich auf Augenhöhe begegnen. Mit viel Geduld\, Herz und Fachwissen schaffen wir ein Umfeld\, in dem Vertrauen\, Verantwortung und Freude wachsen können.\r\nUnser ganzheitlicher Ansatz verbindet spielerisches Lernen mit echten Erlebnissen:\r\n• Pflegen\, Versorgen & Putzen: Das Pferd als Freund kennenlernen und Verantwortung übernehmen\r\n• Führen & Tragen: Sicherheit und Selbstbewusstsein im Umgang mit dem Tier gewinnen.\r\n• Erleben & Entdecken: Spaß mit Pferd\, Natur und neuen Freundschaften steht im Mittelpunkt!\r\n
URL;VALUE=URI:https://www.unser-ferienprogramm.de/guetersloh/veranstaltung.php?id=300904
SUMMARY:Abenteuer Pferdehof (Ostern)
DTSTART;TZID=Europe/Berlin:20260408T090000
END:VEVENT


BEGIN:VEVENT
DTEND;TZID=Europe/Berlin:20260409T160000
UID:69ea6ec2e7f432
DTSTAMP:20260423T211058
LOCATION:Toppmannsweg 68\, 33659 Bielefeld
DESCRIPTION:Beim Abenteuer Pferdehof dreht sich alles um Ponys\, Pferde und jede Menge Spaß in der Natur!\r\nEine Woche lang tauchen die Kinder auf dem wunderschönen Hof von Janine am Toppmannsweg 68 in Bielefeld in die Welt der Pferde ein – mit ganz viel Bewegung\, frischer Luft und glücklichen Momenten.\r\nHier entsteht ein besonderer Ort\, an dem Kinder und Tiere sich auf Augenhöhe begegnen. Mit viel Geduld\, Herz und Fachwissen schaffen wir ein Umfeld\, in dem Vertrauen\, Verantwortung und Freude wachsen können.\r\nUnser ganzheitlicher Ansatz verbindet spielerisches Lernen mit echten Erlebnissen:\r\n• Pflegen\, Versorgen & Putzen: Das Pferd als Freund kennenlernen und Verantwortung übernehmen\r\n• Führen & Tragen: Sicherheit und Selbstbewusstsein im Umgang mit dem Tier gewinnen.\r\n• Erleben & Entdecken: Spaß mit Pferd\, Natur und neuen Freundschaften steht im Mittelpunkt!\r\n
URL;VALUE=URI:https://www.unser-ferienprogramm.de/guetersloh/veranstaltung.php?id=300904
SUMMARY:Abenteuer Pferdehof (Ostern)
DTSTART;TZID=Europe/Berlin:20260409T090000
END:VEVENT


BEGIN:VEVENT
DTEND;TZID=Europe/Berlin:20260410T130000
UID:69ea6ec2e7f513
DTSTAMP:20260423T211058
LOCATION:Toppmannsweg 68\, 33659 Bielefeld
DESCRIPTION:Beim Abenteuer Pferdehof dreht sich alles um Ponys\, Pferde und jede Menge Spaß in der Natur!\r\nEine Woche lang tauchen die Kinder auf dem wunderschönen Hof von Janine am Toppmannsweg 68 in Bielefeld in die Welt der Pferde ein – mit ganz viel Bewegung\, frischer Luft und glücklichen Momenten.\r\nHier entsteht ein besonderer Ort\, an dem Kinder und Tiere sich auf Augenhöhe begegnen. Mit viel Geduld\, Herz und Fachwissen schaffen wir ein Umfeld\, in dem Vertrauen\, Verantwortung und Freude wachsen können.\r\nUnser ganzheitlicher Ansatz verbindet spielerisches Lernen mit echten Erlebnissen:\r\n• Pflegen\, Versorgen & Putzen: Das Pferd als Freund kennenlernen und Verantwortung übernehmen\r\n• Führen & Tragen: Sicherheit und Selbstbewusstsein im Umgang mit dem Tier gewinnen.\r\n• Erleben & Entdecken: Spaß mit Pferd\, Natur und neuen Freundschaften steht im Mittelpunkt!\r\n
URL;VALUE=URI:https://www.unser-ferienprogramm.de/guetersloh/veranstaltung.php?id=300904
SUMMARY:Abenteuer Pferdehof (Ostern)
DTSTART;TZID=Europe/Berlin:20260410T090000
END:VEVENT

END:VCALENDAR
