BEGIN:VCALENDAR
VERSION:2.0
PRODID:-//hacksw/handcal//NONSGML v1.0//EN
CALSCALE:GREGORIAN
BEGIN:VTIMEZONE
TZID:Europe/Berlin
X-LIC-LOCATION:Europe/Berlin
BEGIN:DAYLIGHT
TZOFFSETFROM:+0100
TZOFFSETTO:+0200
TZNAME:CEST
DTSTART:19700329T020000
RRULE:FREQ=YEARLY;BYDAY=-1SU;BYMONTH=3
END:DAYLIGHT
BEGIN:STANDARD
TZOFFSETFROM:+0200
TZOFFSETTO:+0100
TZNAME:CET
DTSTART:19701025T030000
RRULE:FREQ=YEARLY;BYDAY=-1SU;BYMONTH=10
END:STANDARD
END:VTIMEZONE
BEGIN:VEVENT
DTEND;TZID=Europe/Berlin:20260330T130000
UID:69ea844a73166
DTSTAMP:20260423T224250
LOCATION:Achtung für Tiere e.V.\, Vossebeinweg 40\, 33397 Rietberg 
DESCRIPTION:Tiere fühlen Angst\, Schmerz\, Spaß und Freude. Sie sind klug\, haben Wünsche und einen starken Willen. Sie wollen gut leben\, Familien und Freunde haben. Bei Achtung für Tiere e.V. in Varensell erfährst du\, wie Tiere leben wollen\, was sie mögen und was ihnen schadet. \r\nZuerst versorgen wir zusammen alle Tiere\, z.B. unternehmungslustige Hühner\, Kaninchen\, schüchterne oder mutige Katzen und Esel. Bevor wir die Hunde ausführen\, stärken wir uns mit einem leckeren tierfreundlichen Frühstück.\r\n\r\nWir sprechen darüber\, wie es den Tieren im Zoo\, bei Tierversuchen\, der Jagd und in der Landwirtschaft ergeht und was jeder von uns gegen Tierleid tun kann.\r\n\r\n
URL;VALUE=URI:https://www.unser-ferienprogramm.de/guetersloh/veranstaltung.php?id=300848
SUMMARY:3 Tage Tiere schützen\, Tieren helfen - auf dem Varenseller Tierschutzhof
DTSTART;TZID=Europe/Berlin:20260330T080000
END:VEVENT


BEGIN:VEVENT
DTEND;TZID=Europe/Berlin:20260331T130000
UID:69ea844a731841
DTSTAMP:20260423T224250
LOCATION:Achtung für Tiere e.V.\, Vossebeinweg 40\, 33397 Rietberg 
DESCRIPTION:Tiere fühlen Angst\, Schmerz\, Spaß und Freude. Sie sind klug\, haben Wünsche und einen starken Willen. Sie wollen gut leben\, Familien und Freunde haben. Bei Achtung für Tiere e.V. in Varensell erfährst du\, wie Tiere leben wollen\, was sie mögen und was ihnen schadet. \r\nZuerst versorgen wir zusammen alle Tiere\, z.B. unternehmungslustige Hühner\, Kaninchen\, schüchterne oder mutige Katzen und Esel. Bevor wir die Hunde ausführen\, stärken wir uns mit einem leckeren tierfreundlichen Frühstück.\r\n\r\nWir sprechen darüber\, wie es den Tieren im Zoo\, bei Tierversuchen\, der Jagd und in der Landwirtschaft ergeht und was jeder von uns gegen Tierleid tun kann.\r\n\r\n
URL;VALUE=URI:https://www.unser-ferienprogramm.de/guetersloh/veranstaltung.php?id=300848
SUMMARY:3 Tage Tiere schützen\, Tieren helfen - auf dem Varenseller Tierschutzhof
DTSTART;TZID=Europe/Berlin:20260331T080000
END:VEVENT


BEGIN:VEVENT
DTEND;TZID=Europe/Berlin:20260401T130000
UID:69ea844a731952
DTSTAMP:20260423T224250
LOCATION:Achtung für Tiere e.V.\, Vossebeinweg 40\, 33397 Rietberg 
DESCRIPTION:Tiere fühlen Angst\, Schmerz\, Spaß und Freude. Sie sind klug\, haben Wünsche und einen starken Willen. Sie wollen gut leben\, Familien und Freunde haben. Bei Achtung für Tiere e.V. in Varensell erfährst du\, wie Tiere leben wollen\, was sie mögen und was ihnen schadet. \r\nZuerst versorgen wir zusammen alle Tiere\, z.B. unternehmungslustige Hühner\, Kaninchen\, schüchterne oder mutige Katzen und Esel. Bevor wir die Hunde ausführen\, stärken wir uns mit einem leckeren tierfreundlichen Frühstück.\r\n\r\nWir sprechen darüber\, wie es den Tieren im Zoo\, bei Tierversuchen\, der Jagd und in der Landwirtschaft ergeht und was jeder von uns gegen Tierleid tun kann.\r\n\r\n
URL;VALUE=URI:https://www.unser-ferienprogramm.de/guetersloh/veranstaltung.php?id=300848
SUMMARY:3 Tage Tiere schützen\, Tieren helfen - auf dem Varenseller Tierschutzhof
DTSTART;TZID=Europe/Berlin:20260401T080000
END:VEVENT

END:VCALENDAR
