BEGIN:VCALENDAR
VERSION:2.0
PRODID:-//hacksw/handcal//NONSGML v1.0//EN
CALSCALE:GREGORIAN
BEGIN:VTIMEZONE
TZID:Europe/Berlin
X-LIC-LOCATION:Europe/Berlin
BEGIN:DAYLIGHT
TZOFFSETFROM:+0100
TZOFFSETTO:+0200
TZNAME:CEST
DTSTART:19700329T020000
RRULE:FREQ=YEARLY;BYDAY=-1SU;BYMONTH=3
END:DAYLIGHT
BEGIN:STANDARD
TZOFFSETFROM:+0200
TZOFFSETTO:+0100
TZNAME:CET
DTSTART:19701025T030000
RRULE:FREQ=YEARLY;BYDAY=-1SU;BYMONTH=10
END:STANDARD
END:VTIMEZONE
BEGIN:VEVENT
DTEND;TZID=Europe/Berlin:20260401T160000
UID:69ea8447b9427
DTSTAMP:20260423T224247
LOCATION:Schulhof der Altstadtschule\, Schulstraße 29 in der Innenstadt
DESCRIPTION:Fußballfans aufgepasst! In den Osterferien bietet die mobile Jugendarbeit wieder Streetsoccer-Turniere an. Du kannst dich einzeln oder mit deinen Freundinnen/Freunden als Team anmelden. Gespielt wird drei gegen drei. Das Siegerteam und die fairste Mannschaft bekommen einen kleinen Pokal und eine Urkunde für die Spieler des Teams. Dazu gibt es für jedes Spiel eine Fairplay-Wertung nach Punkten. Und wer die meisten Tore schießt\, bekommt auch einen Pokal. \r\n\r\n\r\nWir spielen zwei Turniere nach Alter gestaffelt:\r\n14:00 Uhr – 16:00 Uhr ab ca. 8 Jahre\r\n16:00 Uhr – 18:00 Uhr ab 12 Jahre\r\n
URL;VALUE=URI:https://www.unser-ferienprogramm.de/guetersloh/veranstaltung.php?id=300827
SUMMARY:Streetsoccer on Tour -   City-CupSchulhof Altstadschule (8 - 11 Jahre)
DTSTART;TZID=Europe/Berlin:20260401T140000
END:VEVENT

END:VCALENDAR
