BEGIN:VCALENDAR
VERSION:2.0
PRODID:-//hacksw/handcal//NONSGML v1.0//EN
CALSCALE:GREGORIAN
BEGIN:VTIMEZONE
TZID:Europe/Berlin
X-LIC-LOCATION:Europe/Berlin
BEGIN:DAYLIGHT
TZOFFSETFROM:+0100
TZOFFSETTO:+0200
TZNAME:CEST
DTSTART:19700329T020000
RRULE:FREQ=YEARLY;BYDAY=-1SU;BYMONTH=3
END:DAYLIGHT
BEGIN:STANDARD
TZOFFSETFROM:+0200
TZOFFSETTO:+0100
TZNAME:CET
DTSTART:19701025T030000
RRULE:FREQ=YEARLY;BYDAY=-1SU;BYMONTH=10
END:STANDARD
END:VTIMEZONE
BEGIN:VEVENT
DTEND;TZID=Europe/Berlin:20260402T134500
UID:69ea83e147e51
DTSTAMP:20260423T224105
LOCATION:
DESCRIPTION:Wer in der SchücoArena einmal hinter die Kulissen blicken möchte\, ist bei der Stadionführung bestens aufgehoben!\r\n\r\nErlebe die Faszination des Fußballs hautnah – mit einer  exklusiven Stadionführung ! Tauche ein in die SchücoArena\, in der Leidenschaft und Geschichte aufeinandertreffen\, und entdecke die verborgenen Ecken deines Lieblingsstadions. Ausklang im SkyOffice (inkl. 2 Getränke)
URL;VALUE=URI:https://www.unser-ferienprogramm.de/guetersloh/veranstaltung.php?id=300810
SUMMARY:Stadion-Führung - Schüco-Arena
DTSTART;TZID=Europe/Berlin:20260402T100000
END:VEVENT

END:VCALENDAR
