BEGIN:VCALENDAR
VERSION:2.0
PRODID:-//hacksw/handcal//NONSGML v1.0//EN
CALSCALE:GREGORIAN
BEGIN:VTIMEZONE
TZID:Europe/Berlin
X-LIC-LOCATION:Europe/Berlin
BEGIN:DAYLIGHT
TZOFFSETFROM:+0100
TZOFFSETTO:+0200
TZNAME:CEST
DTSTART:19700329T020000
RRULE:FREQ=YEARLY;BYDAY=-1SU;BYMONTH=3
END:DAYLIGHT
BEGIN:STANDARD
TZOFFSETFROM:+0200
TZOFFSETTO:+0100
TZNAME:CET
DTSTART:19701025T030000
RRULE:FREQ=YEARLY;BYDAY=-1SU;BYMONTH=10
END:STANDARD
END:VTIMEZONE
BEGIN:VEVENT
DTEND;TZID=Europe/Berlin:20260331T130000
UID:69ea97b97e7ab
DTSTAMP:20260424T000545
LOCATION:Rhedaer Forst 
DESCRIPTION:In der Natur hast du die Möglichkeit deinen Wahrnehmungshorizont zu erweitern. Du entdeckst die Vielfalt der in der Natur vorhandenen Materialen\, sei es die bunte Welt der Blätter und Blüten\, die Formen- und Strukturvielfalt von Holz\, Zweigen\, Ästen\, Steinen oder deren unterschiedliche Eigenschaften. Die spannende Frage ist\, was mit dieser Materialfülle alles gestaltet und erschaffen werden kann? Der Fantasie sind keine Grenzen gesetzt. Das Ergebnis dieser Auseinandersetzung können Landartprojekte oder auch kleine Kunstwerke sein\, die mit nach Hause genommen werden können. Wichtig hierbei ist am Ende immer die Reflektion der Ergebnisse in der Gruppe. Auf jeden Fall nimmst du ganz viele neue Erfahrungen und Eindrücke mit. \r\n\r\n
URL;VALUE=URI:https://www.unser-ferienprogramm.de/guetersloh/veranstaltung.php?id=291967
SUMMARY:Unser Wald und seine Kultur (1)
DTSTART;TZID=Europe/Berlin:20260331T100000
END:VEVENT

END:VCALENDAR
