BEGIN:VCALENDAR
VERSION:2.0
PRODID:-//hacksw/handcal//NONSGML v1.0//EN
CALSCALE:GREGORIAN
BEGIN:VTIMEZONE
TZID:Europe/Berlin
X-LIC-LOCATION:Europe/Berlin
BEGIN:DAYLIGHT
TZOFFSETFROM:+0100
TZOFFSETTO:+0200
TZNAME:CEST
DTSTART:19700329T020000
RRULE:FREQ=YEARLY;BYDAY=-1SU;BYMONTH=3
END:DAYLIGHT
BEGIN:STANDARD
TZOFFSETFROM:+0200
TZOFFSETTO:+0100
TZNAME:CET
DTSTART:19701025T030000
RRULE:FREQ=YEARLY;BYDAY=-1SU;BYMONTH=10
END:STANDARD
END:VTIMEZONE
BEGIN:VEVENT
DTEND;TZID=Europe/Berlin:20260331T120000
UID:69ea8449ed348
DTSTAMP:20260423T224249
LOCATION:Hochschule Bielefeld\, Campus Gütersloh\, Schulstraße 10 (3.OG)
DESCRIPTION:In diesem zweitägigen Ferienworkshop lernst du den Calliope mini kennen und machst deine ersten Erfahrungen im Programmieren.\r\n\r\nTag 1: Grundlagen (31.03.)\r\nAm ersten Tag geht es um den Einstieg: Du erfährst\, wie der Calliope funktioniert\, lernst wichtige Grundbegriffe kennen und programmierst einfache Anwendungen. Dabei wird viel ausprobiert und Schritt für Schritt gearbeitet.\r\n\r\nTag 2: Vertiefung\, Projekte und Spiele (01.04.)\r\nAm zweiten Tag arbeitest du mit den Grundlagen aus dem ersten Tag weiter. Die Aufgaben werden etwas anspruchsvoller: Du kombinierst verschiedene Programmierbausteine\, entwickelst eigene Projekte und programmierst einfache Spiele. \r\n\r\nVorkenntnisse sind nicht notwendig – wer schon etwas Erfahrung hat\, findet ebenfalls passende Aufgaben.\r\n\r\n\r\nAnmeldung über unsere Website:\r\nhttps://www.hsbi.de/guetersloh/experimint-digital/anmeldung
URL;VALUE=URI:https://www.unser-ferienprogramm.de/guetersloh/veranstaltung.php?id=268315
SUMMARY:Mini-Computer\, große Ideen: Kreatives Coding mit Calliope 
DTSTART;TZID=Europe/Berlin:20260331T100000
END:VEVENT


BEGIN:VEVENT
DTEND;TZID=Europe/Berlin:20260401T120000
UID:69ea8449ed3671
DTSTAMP:20260423T224249
LOCATION:Hochschule Bielefeld\, Campus Gütersloh\, Schulstraße 10 (3.OG)
DESCRIPTION:In diesem zweitägigen Ferienworkshop lernst du den Calliope mini kennen und machst deine ersten Erfahrungen im Programmieren.\r\n\r\nTag 1: Grundlagen (31.03.)\r\nAm ersten Tag geht es um den Einstieg: Du erfährst\, wie der Calliope funktioniert\, lernst wichtige Grundbegriffe kennen und programmierst einfache Anwendungen. Dabei wird viel ausprobiert und Schritt für Schritt gearbeitet.\r\n\r\nTag 2: Vertiefung\, Projekte und Spiele (01.04.)\r\nAm zweiten Tag arbeitest du mit den Grundlagen aus dem ersten Tag weiter. Die Aufgaben werden etwas anspruchsvoller: Du kombinierst verschiedene Programmierbausteine\, entwickelst eigene Projekte und programmierst einfache Spiele. \r\n\r\nVorkenntnisse sind nicht notwendig – wer schon etwas Erfahrung hat\, findet ebenfalls passende Aufgaben.\r\n\r\n\r\nAnmeldung über unsere Website:\r\nhttps://www.hsbi.de/guetersloh/experimint-digital/anmeldung
URL;VALUE=URI:https://www.unser-ferienprogramm.de/guetersloh/veranstaltung.php?id=268315
SUMMARY:Mini-Computer\, große Ideen: Kreatives Coding mit Calliope 
DTSTART;TZID=Europe/Berlin:20260401T100000
END:VEVENT

END:VCALENDAR
