BEGIN:VCALENDAR
VERSION:2.0
PRODID:-//hacksw/handcal//NONSGML v1.0//EN
CALSCALE:GREGORIAN
BEGIN:VTIMEZONE
TZID:Europe/Berlin
X-LIC-LOCATION:Europe/Berlin
BEGIN:DAYLIGHT
TZOFFSETFROM:+0100
TZOFFSETTO:+0200
TZNAME:CEST
DTSTART:19700329T020000
RRULE:FREQ=YEARLY;BYDAY=-1SU;BYMONTH=3
END:DAYLIGHT
BEGIN:STANDARD
TZOFFSETFROM:+0200
TZOFFSETTO:+0100
TZNAME:CET
DTSTART:19701025T030000
RRULE:FREQ=YEARLY;BYDAY=-1SU;BYMONTH=10
END:STANDARD
END:VTIMEZONE
BEGIN:VEVENT
DTEND;TZID=Europe/Berlin:20260331T110000
UID:69ea8463a4823
DTSTAMP:20260423T224315
LOCATION:Stadtbibliothek Gütersloh GmbH\, Blessenstätte 1
DESCRIPTION:Für Kinder im Alter von 7 bis 8 Jahren bietet die Stadtbibliothek Gütersloh in den Osterferien neue “Leseabenteuer” an. Angefangen mit dem Buch \,\,Mein Onkel\, der Roboter‘‘ von Michael Petrowitz. Jonas soll mit seiner Mutter zum Elterngespräch in die Schule kommen\, stattdessen nimmt Jonas Herrn Botti mit – einen Roboter\, den er als seinen Onkel ausgibt. Ob das gut geht? \r\n\r\nIm Anschluss gibt es eine Einführung mit den Lernrobotern Blue-Bots!
URL;VALUE=URI:https://www.unser-ferienprogramm.de/guetersloh/veranstaltung.php?id=248824
SUMMARY:Leseabenteuer – Mein Onkel\, der Roboter
DTSTART;TZID=Europe/Berlin:20260331T094500
END:VEVENT

END:VCALENDAR
