BEGIN:VCALENDAR
VERSION:2.0
PRODID:-//hacksw/handcal//NONSGML v1.0//EN
CALSCALE:GREGORIAN
BEGIN:VTIMEZONE
TZID:Europe/Berlin
X-LIC-LOCATION:Europe/Berlin
BEGIN:DAYLIGHT
TZOFFSETFROM:+0100
TZOFFSETTO:+0200
TZNAME:CEST
DTSTART:19700329T020000
RRULE:FREQ=YEARLY;BYDAY=-1SU;BYMONTH=3
END:DAYLIGHT
BEGIN:STANDARD
TZOFFSETFROM:+0200
TZOFFSETTO:+0100
TZNAME:CET
DTSTART:19701025T030000
RRULE:FREQ=YEARLY;BYDAY=-1SU;BYMONTH=10
END:STANDARD
END:VTIMEZONE
BEGIN:VEVENT
DTEND;TZID=Europe/Berlin:20260330T140000
UID:69ea97a90cc5f
DTSTAMP:20260424T000529
LOCATION:Kreativraum PINKE ENTE\, Hohenzollernstraße 1a\, 
DESCRIPTION:Reise durch die Welt - Irland\, Italien\, Japan und Mexiko.\r\nWir erkunden diese Länder durch Spiele\, Basteln\, Malen und zaubern nebenbei noch leckeres Essen - Wer braucht da noch einen Reiseführer?
URL;VALUE=URI:https://www.unser-ferienprogramm.de/guetersloh/veranstaltung.php?id=245387
SUMMARY:Reise durch die Welt
DTSTART;TZID=Europe/Berlin:20260330T080000
END:VEVENT


BEGIN:VEVENT
DTEND;TZID=Europe/Berlin:20260331T140000
UID:69ea97a90cc951
DTSTAMP:20260424T000529
LOCATION:Kreativraum PINKE ENTE\, Hohenzollernstraße 1a\, 
DESCRIPTION:Reise durch die Welt - Irland\, Italien\, Japan und Mexiko.\r\nWir erkunden diese Länder durch Spiele\, Basteln\, Malen und zaubern nebenbei noch leckeres Essen - Wer braucht da noch einen Reiseführer?
URL;VALUE=URI:https://www.unser-ferienprogramm.de/guetersloh/veranstaltung.php?id=245387
SUMMARY:Reise durch die Welt
DTSTART;TZID=Europe/Berlin:20260331T080000
END:VEVENT


BEGIN:VEVENT
DTEND;TZID=Europe/Berlin:20260401T140000
UID:69ea97a90cca22
DTSTAMP:20260424T000529
LOCATION:Kreativraum PINKE ENTE\, Hohenzollernstraße 1a\, 
DESCRIPTION:Reise durch die Welt - Irland\, Italien\, Japan und Mexiko.\r\nWir erkunden diese Länder durch Spiele\, Basteln\, Malen und zaubern nebenbei noch leckeres Essen - Wer braucht da noch einen Reiseführer?
URL;VALUE=URI:https://www.unser-ferienprogramm.de/guetersloh/veranstaltung.php?id=245387
SUMMARY:Reise durch die Welt
DTSTART;TZID=Europe/Berlin:20260401T080000
END:VEVENT


BEGIN:VEVENT
DTEND;TZID=Europe/Berlin:20260402T140000
UID:69ea97a90ccbb3
DTSTAMP:20260424T000529
LOCATION:Kreativraum PINKE ENTE\, Hohenzollernstraße 1a\, 
DESCRIPTION:Reise durch die Welt - Irland\, Italien\, Japan und Mexiko.\r\nWir erkunden diese Länder durch Spiele\, Basteln\, Malen und zaubern nebenbei noch leckeres Essen - Wer braucht da noch einen Reiseführer?
URL;VALUE=URI:https://www.unser-ferienprogramm.de/guetersloh/veranstaltung.php?id=245387
SUMMARY:Reise durch die Welt
DTSTART;TZID=Europe/Berlin:20260402T080000
END:VEVENT

END:VCALENDAR
