BEGIN:VCALENDAR
VERSION:2.0
PRODID:-//hacksw/handcal//NONSGML v1.0//EN
CALSCALE:GREGORIAN
BEGIN:VTIMEZONE
TZID:Europe/Berlin
X-LIC-LOCATION:Europe/Berlin
BEGIN:DAYLIGHT
TZOFFSETFROM:+0100
TZOFFSETTO:+0200
TZNAME:CEST
DTSTART:19700329T020000
RRULE:FREQ=YEARLY;BYDAY=-1SU;BYMONTH=3
END:DAYLIGHT
BEGIN:STANDARD
TZOFFSETFROM:+0200
TZOFFSETTO:+0100
TZNAME:CET
DTSTART:19701025T030000
RRULE:FREQ=YEARLY;BYDAY=-1SU;BYMONTH=10
END:STANDARD
END:VTIMEZONE
BEGIN:VEVENT
DTEND;TZID=Europe/Berlin:20260409T131500
UID:69ea80d168daf
DTSTAMP:20260423T222801
LOCATION:Superfly Bielefeld\, Babenhauser Str. 325\, 33619 Bielefeld 
DESCRIPTION:Erlebe mit uns einen actionreichen Ausflug zum Superfly Bielefeld. Hier kannst du dich nach Lust und Laune auf den vielen verschiedenen Trampolinen und Parkouren austoben und deine Tricks unter Beweis stellen.\r\n\r\nDieses Angebot kann über die Bildungskarte abgerechnet werden.
URL;VALUE=URI:https://www.unser-ferienprogramm.de/guetersloh/veranstaltung.php?id=236268
SUMMARY:Superfly Bielefeld (Besuch Trampolinpark)
DTSTART;TZID=Europe/Berlin:20260409T083000
END:VEVENT

END:VCALENDAR
