BEGIN:VCALENDAR
VERSION:2.0
PRODID:-//hacksw/handcal//NONSGML v1.0//EN
CALSCALE:GREGORIAN
BEGIN:VTIMEZONE
TZID:Europe/Berlin
X-LIC-LOCATION:Europe/Berlin
BEGIN:DAYLIGHT
TZOFFSETFROM:+0100
TZOFFSETTO:+0200
TZNAME:CEST
DTSTART:19700329T020000
RRULE:FREQ=YEARLY;BYDAY=-1SU;BYMONTH=3
END:DAYLIGHT
BEGIN:STANDARD
TZOFFSETFROM:+0200
TZOFFSETTO:+0100
TZNAME:CET
DTSTART:19701025T030000
RRULE:FREQ=YEARLY;BYDAY=-1SU;BYMONTH=10
END:STANDARD
END:VTIMEZONE
BEGIN:VEVENT
DTEND;TZID=Europe/Berlin:20260408T190000
UID:69ea810f03726
DTSTAMP:20260423T222903
LOCATION:Carl-Miele-Berufskolleg\, Wilhelm-Wolf-Str. 2 – 4\, Hallenteil 4
DESCRIPTION:Hier probierst du mit Tischtennis den schnellsten Rückschlagsport der Welt aus. Da ist Spaß und Schnelligkeit garantiert und die Zeit vergeht wie im Flug.\r\n\r\n\r\n
URL;VALUE=URI:https://www.unser-ferienprogramm.de/guetersloh/veranstaltung.php?id=236194
SUMMARY:Tischtennis mit dem GTV - der schnellste Rückschlagsport der Welt – macht einfach Spaß 
DTSTART;TZID=Europe/Berlin:20260408T170000
END:VEVENT

END:VCALENDAR
