BEGIN:VCALENDAR
VERSION:2.0
PRODID:-//hacksw/handcal//NONSGML v1.0//EN
CALSCALE:GREGORIAN
BEGIN:VTIMEZONE
TZID:Europe/Berlin
X-LIC-LOCATION:Europe/Berlin
BEGIN:DAYLIGHT
TZOFFSETFROM:+0100
TZOFFSETTO:+0200
TZNAME:CEST
DTSTART:19700329T020000
RRULE:FREQ=YEARLY;BYDAY=-1SU;BYMONTH=3
END:DAYLIGHT
BEGIN:STANDARD
TZOFFSETFROM:+0200
TZOFFSETTO:+0100
TZNAME:CET
DTSTART:19701025T030000
RRULE:FREQ=YEARLY;BYDAY=-1SU;BYMONTH=10
END:STANDARD
END:VTIMEZONE
BEGIN:VEVENT
DTEND;TZID=Europe/Berlin:20260401T183000
UID:69ea83f226cd9
DTSTAMP:20260423T224122
LOCATION:Stadtbibliothek\, Digitaler Werkraum\, Blessenstätte 1\, 33330 Gütersloh
DESCRIPTION:Hier treffen sich Manga- und Anime-Interessierte zum kreativen Zeichnen und Austauschen.
URL;VALUE=URI:https://www.unser-ferienprogramm.de/guetersloh/veranstaltung.php?id=235213
SUMMARY:Offener Manga - Treff
DTSTART;TZID=Europe/Berlin:20260401T170000
END:VEVENT

END:VCALENDAR
