BEGIN:VCALENDAR
VERSION:2.0
PRODID:-//hacksw/handcal//NONSGML v1.0//EN
CALSCALE:GREGORIAN
BEGIN:VTIMEZONE
TZID:Europe/Berlin
X-LIC-LOCATION:Europe/Berlin
BEGIN:DAYLIGHT
TZOFFSETFROM:+0100
TZOFFSETTO:+0200
TZNAME:CEST
DTSTART:19700329T020000
RRULE:FREQ=YEARLY;BYDAY=-1SU;BYMONTH=3
END:DAYLIGHT
BEGIN:STANDARD
TZOFFSETFROM:+0200
TZOFFSETTO:+0100
TZNAME:CET
DTSTART:19701025T030000
RRULE:FREQ=YEARLY;BYDAY=-1SU;BYMONTH=10
END:STANDARD
END:VTIMEZONE
BEGIN:VEVENT
DTEND;TZID=Europe/Berlin:20260408T121500
UID:69ea836f788da
DTSTAMP:20260423T223911
LOCATION:Feuerwehr der Stadt Gütersloh\, Friedrich-Ebert-Straße 10
DESCRIPTION:Hast du noch nie die Feuerwehr Gütersloh von innen gesehen und möchtest einmal wissen \, wie eine Drehleiter funktioniert oder wie sich die Feuerwehrmänner- und Frauen für einen Einsatz fit halten? Dies und noch mehr kannst du bei diesem Besuch genau erfahren.
URL;VALUE=URI:https://www.unser-ferienprogramm.de/guetersloh/veranstaltung.php?id=201064
SUMMARY:Besuch bei der Feuerwehr
DTSTART;TZID=Europe/Berlin:20260408T100000
END:VEVENT

END:VCALENDAR
