BEGIN:VCALENDAR
VERSION:2.0
PRODID:-//hacksw/handcal//NONSGML v1.0//EN
CALSCALE:GREGORIAN
BEGIN:VTIMEZONE
TZID:Europe/Berlin
X-LIC-LOCATION:Europe/Berlin
BEGIN:DAYLIGHT
TZOFFSETFROM:+0100
TZOFFSETTO:+0200
TZNAME:CEST
DTSTART:19700329T020000
RRULE:FREQ=YEARLY;BYDAY=-1SU;BYMONTH=3
END:DAYLIGHT
BEGIN:STANDARD
TZOFFSETFROM:+0200
TZOFFSETTO:+0100
TZNAME:CET
DTSTART:19701025T030000
RRULE:FREQ=YEARLY;BYDAY=-1SU;BYMONTH=10
END:STANDARD
END:VTIMEZONE
BEGIN:VEVENT
DTEND;TZID=Europe/Berlin:20260810T160000
UID:69ea57ef14888
DTSTAMP:20260423T193335
LOCATION:Toppmannsweg 68\, 33659 Bielefeld
DESCRIPTION:Beim Abenteuer Pferdehof dreht sich alles um Ponys\, Pferde und jede Menge Spaß in der Natur!\r\nEine Woche lang tauchen die Kinder auf dem wunderschönen Hof von Janine am Toppmannsweg 68 in Bielefeld in die Welt der Pferde ein – mit ganz viel Bewegung\, frischer Luft und glücklichen Momenten.\r\nHier entsteht ein besonderer Ort\, an dem Kinder und Tiere sich auf Augenhöhe begegnen. Mit viel Geduld\, Herz und Fachwissen schaffen wir ein Umfeld\, in dem Vertrauen\, Verantwortung und Freude wachsen können.\r\nUnser ganzheitlicher Ansatz verbindet spielerisches Lernen mit echten Erlebnissen:\r\n•\tPflegen\, Versorgen & Putzen: Das Pferd als Freund kennenlernen und Verantwortung übernehmen.\r\n•\tFühren & Tragen: Sicherheit und Selbstbewusstsein im Umgang mit dem Tier gewinnen.\r\n•\tErleben & Entdecken: Spaß mit Pferd\, Natur und neuen Freundschaften steht im Mittelpunkt!\r\n
URL;VALUE=URI:https://www.unser-ferienprogramm.de/guetersloh/veranstaltung.php?id=195869
SUMMARY:Abenteuer Pferdehof (Sommer)
DTSTART;TZID=Europe/Berlin:20260810T090000
END:VEVENT


BEGIN:VEVENT
DTEND;TZID=Europe/Berlin:20260811T160000
UID:69ea57ef148a71
DTSTAMP:20260423T193335
LOCATION:Toppmannsweg 68\, 33659 Bielefeld
DESCRIPTION:Beim Abenteuer Pferdehof dreht sich alles um Ponys\, Pferde und jede Menge Spaß in der Natur!\r\nEine Woche lang tauchen die Kinder auf dem wunderschönen Hof von Janine am Toppmannsweg 68 in Bielefeld in die Welt der Pferde ein – mit ganz viel Bewegung\, frischer Luft und glücklichen Momenten.\r\nHier entsteht ein besonderer Ort\, an dem Kinder und Tiere sich auf Augenhöhe begegnen. Mit viel Geduld\, Herz und Fachwissen schaffen wir ein Umfeld\, in dem Vertrauen\, Verantwortung und Freude wachsen können.\r\nUnser ganzheitlicher Ansatz verbindet spielerisches Lernen mit echten Erlebnissen:\r\n•\tPflegen\, Versorgen & Putzen: Das Pferd als Freund kennenlernen und Verantwortung übernehmen.\r\n•\tFühren & Tragen: Sicherheit und Selbstbewusstsein im Umgang mit dem Tier gewinnen.\r\n•\tErleben & Entdecken: Spaß mit Pferd\, Natur und neuen Freundschaften steht im Mittelpunkt!\r\n
URL;VALUE=URI:https://www.unser-ferienprogramm.de/guetersloh/veranstaltung.php?id=195869
SUMMARY:Abenteuer Pferdehof (Sommer)
DTSTART;TZID=Europe/Berlin:20260811T090000
END:VEVENT


BEGIN:VEVENT
DTEND;TZID=Europe/Berlin:20260812T160000
UID:69ea57ef148b92
DTSTAMP:20260423T193335
LOCATION:Toppmannsweg 68\, 33659 Bielefeld
DESCRIPTION:Beim Abenteuer Pferdehof dreht sich alles um Ponys\, Pferde und jede Menge Spaß in der Natur!\r\nEine Woche lang tauchen die Kinder auf dem wunderschönen Hof von Janine am Toppmannsweg 68 in Bielefeld in die Welt der Pferde ein – mit ganz viel Bewegung\, frischer Luft und glücklichen Momenten.\r\nHier entsteht ein besonderer Ort\, an dem Kinder und Tiere sich auf Augenhöhe begegnen. Mit viel Geduld\, Herz und Fachwissen schaffen wir ein Umfeld\, in dem Vertrauen\, Verantwortung und Freude wachsen können.\r\nUnser ganzheitlicher Ansatz verbindet spielerisches Lernen mit echten Erlebnissen:\r\n•\tPflegen\, Versorgen & Putzen: Das Pferd als Freund kennenlernen und Verantwortung übernehmen.\r\n•\tFühren & Tragen: Sicherheit und Selbstbewusstsein im Umgang mit dem Tier gewinnen.\r\n•\tErleben & Entdecken: Spaß mit Pferd\, Natur und neuen Freundschaften steht im Mittelpunkt!\r\n
URL;VALUE=URI:https://www.unser-ferienprogramm.de/guetersloh/veranstaltung.php?id=195869
SUMMARY:Abenteuer Pferdehof (Sommer)
DTSTART;TZID=Europe/Berlin:20260812T090000
END:VEVENT


BEGIN:VEVENT
DTEND;TZID=Europe/Berlin:20260813T160000
UID:69ea57ef148c73
DTSTAMP:20260423T193335
LOCATION:Toppmannsweg 68\, 33659 Bielefeld
DESCRIPTION:Beim Abenteuer Pferdehof dreht sich alles um Ponys\, Pferde und jede Menge Spaß in der Natur!\r\nEine Woche lang tauchen die Kinder auf dem wunderschönen Hof von Janine am Toppmannsweg 68 in Bielefeld in die Welt der Pferde ein – mit ganz viel Bewegung\, frischer Luft und glücklichen Momenten.\r\nHier entsteht ein besonderer Ort\, an dem Kinder und Tiere sich auf Augenhöhe begegnen. Mit viel Geduld\, Herz und Fachwissen schaffen wir ein Umfeld\, in dem Vertrauen\, Verantwortung und Freude wachsen können.\r\nUnser ganzheitlicher Ansatz verbindet spielerisches Lernen mit echten Erlebnissen:\r\n•\tPflegen\, Versorgen & Putzen: Das Pferd als Freund kennenlernen und Verantwortung übernehmen.\r\n•\tFühren & Tragen: Sicherheit und Selbstbewusstsein im Umgang mit dem Tier gewinnen.\r\n•\tErleben & Entdecken: Spaß mit Pferd\, Natur und neuen Freundschaften steht im Mittelpunkt!\r\n
URL;VALUE=URI:https://www.unser-ferienprogramm.de/guetersloh/veranstaltung.php?id=195869
SUMMARY:Abenteuer Pferdehof (Sommer)
DTSTART;TZID=Europe/Berlin:20260813T090000
END:VEVENT


BEGIN:VEVENT
DTEND;TZID=Europe/Berlin:20260814T130000
UID:69ea57ef148d64
DTSTAMP:20260423T193335
LOCATION:Toppmannsweg 68\, 33659 Bielefeld
DESCRIPTION:Beim Abenteuer Pferdehof dreht sich alles um Ponys\, Pferde und jede Menge Spaß in der Natur!\r\nEine Woche lang tauchen die Kinder auf dem wunderschönen Hof von Janine am Toppmannsweg 68 in Bielefeld in die Welt der Pferde ein – mit ganz viel Bewegung\, frischer Luft und glücklichen Momenten.\r\nHier entsteht ein besonderer Ort\, an dem Kinder und Tiere sich auf Augenhöhe begegnen. Mit viel Geduld\, Herz und Fachwissen schaffen wir ein Umfeld\, in dem Vertrauen\, Verantwortung und Freude wachsen können.\r\nUnser ganzheitlicher Ansatz verbindet spielerisches Lernen mit echten Erlebnissen:\r\n•\tPflegen\, Versorgen & Putzen: Das Pferd als Freund kennenlernen und Verantwortung übernehmen.\r\n•\tFühren & Tragen: Sicherheit und Selbstbewusstsein im Umgang mit dem Tier gewinnen.\r\n•\tErleben & Entdecken: Spaß mit Pferd\, Natur und neuen Freundschaften steht im Mittelpunkt!\r\n
URL;VALUE=URI:https://www.unser-ferienprogramm.de/guetersloh/veranstaltung.php?id=195869
SUMMARY:Abenteuer Pferdehof (Sommer)
DTSTART;TZID=Europe/Berlin:20260814T090000
END:VEVENT

END:VCALENDAR
