BEGIN:VCALENDAR
VERSION:2.0
PRODID:-//hacksw/handcal//NONSGML v1.0//EN
CALSCALE:GREGORIAN
BEGIN:VTIMEZONE
TZID:Europe/Berlin
X-LIC-LOCATION:Europe/Berlin
BEGIN:DAYLIGHT
TZOFFSETFROM:+0100
TZOFFSETTO:+0200
TZNAME:CEST
DTSTART:19700329T020000
RRULE:FREQ=YEARLY;BYDAY=-1SU;BYMONTH=3
END:DAYLIGHT
BEGIN:STANDARD
TZOFFSETFROM:+0200
TZOFFSETTO:+0100
TZNAME:CET
DTSTART:19701025T030000
RRULE:FREQ=YEARLY;BYDAY=-1SU;BYMONTH=10
END:STANDARD
END:VTIMEZONE
BEGIN:VEVENT
DTEND;TZID=Europe/Berlin:20260410T110000
UID:69ea83f13f945
DTSTAMP:20260423T224121
LOCATION:Stadtbibliothek Gütersloh GmbH\, Blessenstätte 1
DESCRIPTION:Für Kinder im Alter von 5 bis 6 Jahren bietet die Stadtbibliothek Gütersloh in den Osterferien neue “Leseabenteuer” an. Als zweites Buch steht \,\,Zombert: Hilfe\, die Autos kommen!!‘‘ von Kai Pannen im Mittelpunkt. Eigentlich sind Friedhöfe ruhige Orte. Doch auf dem alten Friedhof\, wo Zombert mit seinem Papagei Plapperkai lebt\, wird plötzlich eine Schnellstraße gebaut. Baustellenlärm und Abgase stören die Ruhe. Sogar der Friedhofswächter Ignaz\, Zomberts Erzfeind\, ist empört. Die beiden schließen einen Waffenstillstand\, um gemeinsam die Straße zu stoppen – mit Grabsteinen und der Angst vor Geistern. Ob das reicht? \r\n\r\nIm Anschluss wird gemeinsam gebastelt.
URL;VALUE=URI:https://www.unser-ferienprogramm.de/guetersloh/veranstaltung.php?id=195282
SUMMARY: Leseabenteuer – Zombert: Hilfe\, die Autos kommen!
DTSTART;TZID=Europe/Berlin:20260410T094500
END:VEVENT

END:VCALENDAR
