BEGIN:VCALENDAR
VERSION:2.0
PRODID:-//hacksw/handcal//NONSGML v1.0//EN
CALSCALE:GREGORIAN
BEGIN:VTIMEZONE
TZID:Europe/Berlin
X-LIC-LOCATION:Europe/Berlin
BEGIN:DAYLIGHT
TZOFFSETFROM:+0100
TZOFFSETTO:+0200
TZNAME:CEST
DTSTART:19700329T020000
RRULE:FREQ=YEARLY;BYDAY=-1SU;BYMONTH=3
END:DAYLIGHT
BEGIN:STANDARD
TZOFFSETFROM:+0200
TZOFFSETTO:+0100
TZNAME:CET
DTSTART:19701025T030000
RRULE:FREQ=YEARLY;BYDAY=-1SU;BYMONTH=10
END:STANDARD
END:VTIMEZONE
BEGIN:VEVENT
DTEND;TZID=Europe/Berlin:20260330T120000
UID:69ea83f324d2b
DTSTAMP:20260423T224123
LOCATION:Mosaikschule\, Im Reke 4
DESCRIPTION:Individuell kannst du hier mit Stoff und Faden deine eigenen Ideen verwirklichen. Nach einer kleinen Einführung an der Nähmaschine kannst du deine eigene Tasche nähen.  Am Ende der Woche nimmst du deine Unikate mit nachhause. 
URL;VALUE=URI:https://www.unser-ferienprogramm.de/guetersloh/veranstaltung.php?id=194807
SUMMARY:Nähen für Anfänger*innen
DTSTART;TZID=Europe/Berlin:20260330T093000
END:VEVENT


BEGIN:VEVENT
DTEND;TZID=Europe/Berlin:20260331T120000
UID:69ea83f324d411
DTSTAMP:20260423T224123
LOCATION:Mosaikschule\, Im Reke 4
DESCRIPTION:Individuell kannst du hier mit Stoff und Faden deine eigenen Ideen verwirklichen. Nach einer kleinen Einführung an der Nähmaschine kannst du deine eigene Tasche nähen.  Am Ende der Woche nimmst du deine Unikate mit nachhause. 
URL;VALUE=URI:https://www.unser-ferienprogramm.de/guetersloh/veranstaltung.php?id=194807
SUMMARY:Nähen für Anfänger*innen
DTSTART;TZID=Europe/Berlin:20260331T093000
END:VEVENT


BEGIN:VEVENT
DTEND;TZID=Europe/Berlin:20260401T120000
UID:69ea83f324d4d2
DTSTAMP:20260423T224123
LOCATION:Mosaikschule\, Im Reke 4
DESCRIPTION:Individuell kannst du hier mit Stoff und Faden deine eigenen Ideen verwirklichen. Nach einer kleinen Einführung an der Nähmaschine kannst du deine eigene Tasche nähen.  Am Ende der Woche nimmst du deine Unikate mit nachhause. 
URL;VALUE=URI:https://www.unser-ferienprogramm.de/guetersloh/veranstaltung.php?id=194807
SUMMARY:Nähen für Anfänger*innen
DTSTART;TZID=Europe/Berlin:20260401T093000
END:VEVENT


BEGIN:VEVENT
DTEND;TZID=Europe/Berlin:20260402T120000
UID:69ea83f324d573
DTSTAMP:20260423T224123
LOCATION:Mosaikschule\, Im Reke 4
DESCRIPTION:Individuell kannst du hier mit Stoff und Faden deine eigenen Ideen verwirklichen. Nach einer kleinen Einführung an der Nähmaschine kannst du deine eigene Tasche nähen.  Am Ende der Woche nimmst du deine Unikate mit nachhause. 
URL;VALUE=URI:https://www.unser-ferienprogramm.de/guetersloh/veranstaltung.php?id=194807
SUMMARY:Nähen für Anfänger*innen
DTSTART;TZID=Europe/Berlin:20260402T093000
END:VEVENT

END:VCALENDAR
