BEGIN:VCALENDAR
VERSION:2.0
PRODID:-//hacksw/handcal//NONSGML v1.0//EN
CALSCALE:GREGORIAN
BEGIN:VTIMEZONE
TZID:Europe/Berlin
X-LIC-LOCATION:Europe/Berlin
BEGIN:DAYLIGHT
TZOFFSETFROM:+0100
TZOFFSETTO:+0200
TZNAME:CEST
DTSTART:19700329T020000
RRULE:FREQ=YEARLY;BYDAY=-1SU;BYMONTH=3
END:DAYLIGHT
BEGIN:STANDARD
TZOFFSETFROM:+0200
TZOFFSETTO:+0100
TZNAME:CET
DTSTART:19701025T030000
RRULE:FREQ=YEARLY;BYDAY=-1SU;BYMONTH=10
END:STANDARD
END:VTIMEZONE
BEGIN:VEVENT
DTEND;TZID=Europe/Berlin:20260407T140000
UID:69ea840252032
DTSTAMP:20260423T224138
LOCATION:Am Anger 54 ( Geschwister-Scholl-Realschule )
DESCRIPTION:In der Osterakademie machen wir...\r\n\r\nPappmaché-Skulpturen - von einfachen Recycling-Materialien wie Zeitungspapier\, Plastikflaschen und Kleister werden lustige Figuren für Innen und Draußen mit etwas handwerklichen Geschick\, Spaß und Phantasie farbig gestaltet.\r\n\r\nMosaik-Ideen – aus Fundsachen wie altes Porzellan\, Perlen\, Schlüssel\, alter Schmuck (Krimskrams….)\, Mitbringen ist erlaubt! - werden Spiegel oder Bilderrahmen gestaltet.\r\n\r\nAm letzten Tag machen wir zum Abschluss ein gemeinsames Picknick mit Spielen und Spaß. \r\nJede/r sollte dazu etwas mitbringen\, wie z.B. Obst\, Brot\, Dip\, Salat…. Absprachen werden innerhalb der Woche getätigt:)\r\n\r\n\r\n\r\n\r\n
URL;VALUE=URI:https://www.unser-ferienprogramm.de/guetersloh/veranstaltung.php?id=194728
SUMMARY:Osterakademie
DTSTART;TZID=Europe/Berlin:20260407T090000
END:VEVENT


BEGIN:VEVENT
DTEND;TZID=Europe/Berlin:20260408T140000
UID:69ea84025204f1
DTSTAMP:20260423T224138
LOCATION:Am Anger 54 ( Geschwister-Scholl-Realschule )
DESCRIPTION:In der Osterakademie machen wir...\r\n\r\nPappmaché-Skulpturen - von einfachen Recycling-Materialien wie Zeitungspapier\, Plastikflaschen und Kleister werden lustige Figuren für Innen und Draußen mit etwas handwerklichen Geschick\, Spaß und Phantasie farbig gestaltet.\r\n\r\nMosaik-Ideen – aus Fundsachen wie altes Porzellan\, Perlen\, Schlüssel\, alter Schmuck (Krimskrams….)\, Mitbringen ist erlaubt! - werden Spiegel oder Bilderrahmen gestaltet.\r\n\r\nAm letzten Tag machen wir zum Abschluss ein gemeinsames Picknick mit Spielen und Spaß. \r\nJede/r sollte dazu etwas mitbringen\, wie z.B. Obst\, Brot\, Dip\, Salat…. Absprachen werden innerhalb der Woche getätigt:)\r\n\r\n\r\n\r\n\r\n
URL;VALUE=URI:https://www.unser-ferienprogramm.de/guetersloh/veranstaltung.php?id=194728
SUMMARY:Osterakademie
DTSTART;TZID=Europe/Berlin:20260408T090000
END:VEVENT


BEGIN:VEVENT
DTEND;TZID=Europe/Berlin:20260409T140000
UID:69ea8402520602
DTSTAMP:20260423T224138
LOCATION:Am Anger 54 ( Geschwister-Scholl-Realschule )
DESCRIPTION:In der Osterakademie machen wir...\r\n\r\nPappmaché-Skulpturen - von einfachen Recycling-Materialien wie Zeitungspapier\, Plastikflaschen und Kleister werden lustige Figuren für Innen und Draußen mit etwas handwerklichen Geschick\, Spaß und Phantasie farbig gestaltet.\r\n\r\nMosaik-Ideen – aus Fundsachen wie altes Porzellan\, Perlen\, Schlüssel\, alter Schmuck (Krimskrams….)\, Mitbringen ist erlaubt! - werden Spiegel oder Bilderrahmen gestaltet.\r\n\r\nAm letzten Tag machen wir zum Abschluss ein gemeinsames Picknick mit Spielen und Spaß. \r\nJede/r sollte dazu etwas mitbringen\, wie z.B. Obst\, Brot\, Dip\, Salat…. Absprachen werden innerhalb der Woche getätigt:)\r\n\r\n\r\n\r\n\r\n
URL;VALUE=URI:https://www.unser-ferienprogramm.de/guetersloh/veranstaltung.php?id=194728
SUMMARY:Osterakademie
DTSTART;TZID=Europe/Berlin:20260409T090000
END:VEVENT


BEGIN:VEVENT
DTEND;TZID=Europe/Berlin:20260410T140000
UID:69ea84025206e3
DTSTAMP:20260423T224138
LOCATION:Am Anger 54 ( Geschwister-Scholl-Realschule )
DESCRIPTION:In der Osterakademie machen wir...\r\n\r\nPappmaché-Skulpturen - von einfachen Recycling-Materialien wie Zeitungspapier\, Plastikflaschen und Kleister werden lustige Figuren für Innen und Draußen mit etwas handwerklichen Geschick\, Spaß und Phantasie farbig gestaltet.\r\n\r\nMosaik-Ideen – aus Fundsachen wie altes Porzellan\, Perlen\, Schlüssel\, alter Schmuck (Krimskrams….)\, Mitbringen ist erlaubt! - werden Spiegel oder Bilderrahmen gestaltet.\r\n\r\nAm letzten Tag machen wir zum Abschluss ein gemeinsames Picknick mit Spielen und Spaß. \r\nJede/r sollte dazu etwas mitbringen\, wie z.B. Obst\, Brot\, Dip\, Salat…. Absprachen werden innerhalb der Woche getätigt:)\r\n\r\n\r\n\r\n\r\n
URL;VALUE=URI:https://www.unser-ferienprogramm.de/guetersloh/veranstaltung.php?id=194728
SUMMARY:Osterakademie
DTSTART;TZID=Europe/Berlin:20260410T090000
END:VEVENT

END:VCALENDAR
