BEGIN:VCALENDAR
VERSION:2.0
PRODID:-//hacksw/handcal//NONSGML v1.0//EN
CALSCALE:GREGORIAN
BEGIN:VTIMEZONE
TZID:Europe/Berlin
X-LIC-LOCATION:Europe/Berlin
BEGIN:DAYLIGHT
TZOFFSETFROM:+0100
TZOFFSETTO:+0200
TZNAME:CEST
DTSTART:19700329T020000
RRULE:FREQ=YEARLY;BYDAY=-1SU;BYMONTH=3
END:DAYLIGHT
BEGIN:STANDARD
TZOFFSETFROM:+0200
TZOFFSETTO:+0100
TZNAME:CET
DTSTART:19701025T030000
RRULE:FREQ=YEARLY;BYDAY=-1SU;BYMONTH=10
END:STANDARD
END:VTIMEZONE
BEGIN:VEVENT
DTEND;TZID=Europe/Berlin:20260330T110000
UID:69ea954d8113f
DTSTAMP:20260423T235525
LOCATION:Sporthalle der Kapellenschule\, Dr.-Thomas-Plaßmann-Weg 10
DESCRIPTION:
URL;VALUE=URI:https://www.unser-ferienprogramm.de/guetersloh/veranstaltung.php?id=194667
SUMMARY:Tischtennis 
DTSTART;TZID=Europe/Berlin:20260330T090000
END:VEVENT


BEGIN:VEVENT
DTEND;TZID=Europe/Berlin:20260331T110000
UID:69ea954d811541
DTSTAMP:20260423T235525
LOCATION:Sporthalle der Kapellenschule\, Dr.-Thomas-Plaßmann-Weg 10
DESCRIPTION:
URL;VALUE=URI:https://www.unser-ferienprogramm.de/guetersloh/veranstaltung.php?id=194667
SUMMARY:Tischtennis 
DTSTART;TZID=Europe/Berlin:20260331T090000
END:VEVENT


BEGIN:VEVENT
DTEND;TZID=Europe/Berlin:20260401T110000
UID:69ea954d811602
DTSTAMP:20260423T235525
LOCATION:Sporthalle der Kapellenschule\, Dr.-Thomas-Plaßmann-Weg 10
DESCRIPTION:
URL;VALUE=URI:https://www.unser-ferienprogramm.de/guetersloh/veranstaltung.php?id=194667
SUMMARY:Tischtennis 
DTSTART;TZID=Europe/Berlin:20260401T090000
END:VEVENT


BEGIN:VEVENT
DTEND;TZID=Europe/Berlin:20260402T110000
UID:69ea954d811693
DTSTAMP:20260423T235525
LOCATION:Sporthalle der Kapellenschule\, Dr.-Thomas-Plaßmann-Weg 10
DESCRIPTION:
URL;VALUE=URI:https://www.unser-ferienprogramm.de/guetersloh/veranstaltung.php?id=194667
SUMMARY:Tischtennis 
DTSTART;TZID=Europe/Berlin:20260402T090000
END:VEVENT

END:VCALENDAR
