BEGIN:VCALENDAR
VERSION:2.0
PRODID:-//hacksw/handcal//NONSGML v1.0//EN
CALSCALE:GREGORIAN
BEGIN:VTIMEZONE
TZID:Europe/Berlin
X-LIC-LOCATION:Europe/Berlin
BEGIN:DAYLIGHT
TZOFFSETFROM:+0100
TZOFFSETTO:+0200
TZNAME:CEST
DTSTART:19700329T020000
RRULE:FREQ=YEARLY;BYDAY=-1SU;BYMONTH=3
END:DAYLIGHT
BEGIN:STANDARD
TZOFFSETFROM:+0200
TZOFFSETTO:+0100
TZNAME:CET
DTSTART:19701025T030000
RRULE:FREQ=YEARLY;BYDAY=-1SU;BYMONTH=10
END:STANDARD
END:VTIMEZONE
BEGIN:VEVENT
DTEND;TZID=Europe/Berlin:20260402T160000
UID:69ea83a56e8a0
DTSTAMP:20260423T224005
LOCATION:Kökerstraße 7-11a\, Gütersloh
DESCRIPTION:Kennst du das rötlich schimmernde Metall mit Namen Kupfer? Es ist recht weich und lässt sich gut formen. Doch woher kommt unser Kupfer? Wusstest du\, dass in armen Ländern sogar Kinder unter sehr unfairen Bedingungen bei großem Lärm und Schmutz in Kupfererzbergwerken arbeiten müssen? Wir werden uns mit dem Thema im Stadtmuseum beschäftigen\, aber auch selbst etwas aus Kupfer basteln. Aus Kupferfolie\, Draht und weiteren Materialien können kleine Kunstwerke entstehen.\r\nDieser Kurs wird von Adelheid Eimer und Andreas Ellefred geleitet.
URL;VALUE=URI:https://www.unser-ferienprogramm.de/guetersloh/veranstaltung.php?id=194474
SUMMARY:Altes Handwerk - Arbeit in der Kupferschmiede
DTSTART;TZID=Europe/Berlin:20260402T140000
END:VEVENT

END:VCALENDAR
