BEGIN:VCALENDAR
VERSION:2.0
PRODID:-//hacksw/handcal//NONSGML v1.0//EN
CALSCALE:GREGORIAN
BEGIN:VTIMEZONE
TZID:Europe/Berlin
X-LIC-LOCATION:Europe/Berlin
BEGIN:DAYLIGHT
TZOFFSETFROM:+0100
TZOFFSETTO:+0200
TZNAME:CEST
DTSTART:19700329T020000
RRULE:FREQ=YEARLY;BYDAY=-1SU;BYMONTH=3
END:DAYLIGHT
BEGIN:STANDARD
TZOFFSETFROM:+0200
TZOFFSETTO:+0100
TZNAME:CET
DTSTART:19701025T030000
RRULE:FREQ=YEARLY;BYDAY=-1SU;BYMONTH=10
END:STANDARD
END:VTIMEZONE
BEGIN:VEVENT
DTEND;TZID=Europe/Berlin:20260410T123000
UID:69ea839ee1a9a
DTSTAMP:20260423T223958
LOCATION:Brockhagener Str. 628\, Gütersloh 
DESCRIPTION:Wo machen Bienen ihren Honig? Wie hilft der Imker ihnen für einen guten Start in die Obstblüte? Wie wird im Frühjahr genug Platz für den neuen Honig und den Nachwuchs geschaffen? Wir werden den Wildbienen ein neues Zuhause basteln und bei gutem Wetter schauen\, wie weit die Honigbienen in ihrer Bautätigkeit und Volksentwicklung sind. Ein Imkerhut mit Schleier steht für jeden zur Verfügung.\r\nDieser Kurs wird  von Veit Dreessen geleitet.
URL;VALUE=URI:https://www.unser-ferienprogramm.de/guetersloh/veranstaltung.php?id=194471
SUMMARY:Bienenkunde für junge Naturforscher
DTSTART;TZID=Europe/Berlin:20260410T100000
END:VEVENT

END:VCALENDAR
