BEGIN:VCALENDAR
VERSION:2.0
PRODID:-//hacksw/handcal//NONSGML v1.0//EN
CALSCALE:GREGORIAN
BEGIN:VTIMEZONE
TZID:Europe/Berlin
X-LIC-LOCATION:Europe/Berlin
BEGIN:DAYLIGHT
TZOFFSETFROM:+0100
TZOFFSETTO:+0200
TZNAME:CEST
DTSTART:19700329T020000
RRULE:FREQ=YEARLY;BYDAY=-1SU;BYMONTH=3
END:DAYLIGHT
BEGIN:STANDARD
TZOFFSETFROM:+0200
TZOFFSETTO:+0100
TZNAME:CET
DTSTART:19701025T030000
RRULE:FREQ=YEARLY;BYDAY=-1SU;BYMONTH=10
END:STANDARD
END:VTIMEZONE
BEGIN:VEVENT
DTEND;TZID=Europe/Berlin:20260408T140000
UID:69ea83a7a7a4e
DTSTAMP:20260423T224007
LOCATION:Schulgarten der Anne-Frank-Schule\, Saligmannsweg 40\, 33330 Gütersloh
DESCRIPTION:Was alles so in einem Teich lebt! Mit Keschern und Becherlupen finden wir heraus wer sich zwischen Wasserpflanzen und Steinen versteckt. Kennst du schon den Rückenschwimmer\, oder hast du schon mal einen Wasserskorpion gesehen? Diese und ganz viele andere Lebewesen erforschen wir zusammen am Teich!\r\nDiesen Kurs leitet Marla Rovers.
URL;VALUE=URI:https://www.unser-ferienprogramm.de/guetersloh/veranstaltung.php?id=194465
SUMMARY:Leben im und am Teich (2)
DTSTART;TZID=Europe/Berlin:20260408T123000
END:VEVENT

END:VCALENDAR
