BEGIN:VCALENDAR
VERSION:2.0
PRODID:-//hacksw/handcal//NONSGML v1.0//EN
CALSCALE:GREGORIAN
BEGIN:VTIMEZONE
TZID:Europe/Berlin
X-LIC-LOCATION:Europe/Berlin
BEGIN:DAYLIGHT
TZOFFSETFROM:+0100
TZOFFSETTO:+0200
TZNAME:CEST
DTSTART:19700329T020000
RRULE:FREQ=YEARLY;BYDAY=-1SU;BYMONTH=3
END:DAYLIGHT
BEGIN:STANDARD
TZOFFSETFROM:+0200
TZOFFSETTO:+0100
TZNAME:CET
DTSTART:19701025T030000
RRULE:FREQ=YEARLY;BYDAY=-1SU;BYMONTH=10
END:STANDARD
END:VTIMEZONE
BEGIN:VEVENT
DTEND;TZID=Europe/Berlin:20260407T113000
UID:69ea83f7781f2
DTSTAMP:20260423T224127
LOCATION:Pestalozzistr. 15\, Gütersloh
DESCRIPTION:Vielleicht hast du schon mal bei einem Spaziergang einen merkwürdigen Stein entdeckt\, der aussieht wie ein versteinertes Lebewesen. Um welches Tier handelt es sich? Wie kommt es in die Erde? Wir werden gemeinsam erfahren\, wie Meerestiere aus Urzeiten in den Boden gelangten und dort zu Stein wurden\, wie man sie findet und für Ausstellungen präpariert. Falls du selber Fossilien besitzt\, kannst du sie zur Bestimmung mitbringen.\r\nDieser Kurs wird geleitet von Jeffrey Mitchell.
URL;VALUE=URI:https://www.unser-ferienprogramm.de/guetersloh/veranstaltung.php?id=194462
SUMMARY:Wenn Steine sprechen könnten... Fossilien – Zeugen der Urzeit
DTSTART;TZID=Europe/Berlin:20260407T093000
END:VEVENT

END:VCALENDAR
