BEGIN:VCALENDAR
VERSION:2.0
PRODID:-//hacksw/handcal//NONSGML v1.0//EN
CALSCALE:GREGORIAN
BEGIN:VTIMEZONE
TZID:Europe/Berlin
X-LIC-LOCATION:Europe/Berlin
BEGIN:DAYLIGHT
TZOFFSETFROM:+0100
TZOFFSETTO:+0200
TZNAME:CEST
DTSTART:19700329T020000
RRULE:FREQ=YEARLY;BYDAY=-1SU;BYMONTH=3
END:DAYLIGHT
BEGIN:STANDARD
TZOFFSETFROM:+0200
TZOFFSETTO:+0100
TZNAME:CET
DTSTART:19701025T030000
RRULE:FREQ=YEARLY;BYDAY=-1SU;BYMONTH=10
END:STANDARD
END:VTIMEZONE
BEGIN:VEVENT
DTEND;TZID=Europe/Berlin:20260409T160000
UID:69ea8400bef8d
DTSTAMP:20260423T224136
LOCATION:Pavillon Botanischer Garten\, Gütersloh
DESCRIPTION:Wildbienen sind absolut friedlich und im eigenen Garten und auf dem Balkon gut zu beobachten\, wenn man ihnen Nahrung z.B. in Form von blühenden Kräutern oder anderen nektar- bzw. pollenspendenden Pflanzen und auch Nistmöglichkeiten anbietet. In diesem Kurs bauen wir Wildbienenhotels\, die du dann mit nach Hause nehmen kannst. Wenn du Glück hast\, kannst du die possierlichen Tiere schon in diesem Jahr an deiner Nisthilfe beobachten.\r\nDieser Kurs wird geleitet von Stefanie Klappenbach und Christa Klink.
URL;VALUE=URI:https://www.unser-ferienprogramm.de/guetersloh/veranstaltung.php?id=194461
SUMMARY:Praxis Wildbienenschutz: Ein Hotel für Wildbienen
DTSTART;TZID=Europe/Berlin:20260409T143000
END:VEVENT

END:VCALENDAR
