BEGIN:VCALENDAR
VERSION:2.0
PRODID:-//hacksw/handcal//NONSGML v1.0//EN
CALSCALE:GREGORIAN
BEGIN:VTIMEZONE
TZID:Europe/Berlin
X-LIC-LOCATION:Europe/Berlin
BEGIN:DAYLIGHT
TZOFFSETFROM:+0100
TZOFFSETTO:+0200
TZNAME:CEST
DTSTART:19700329T020000
RRULE:FREQ=YEARLY;BYDAY=-1SU;BYMONTH=3
END:DAYLIGHT
BEGIN:STANDARD
TZOFFSETFROM:+0200
TZOFFSETTO:+0100
TZNAME:CET
DTSTART:19701025T030000
RRULE:FREQ=YEARLY;BYDAY=-1SU;BYMONTH=10
END:STANDARD
END:VTIMEZONE
BEGIN:VEVENT
DTEND;TZID=Europe/Berlin:20260408T110000
UID:69ea83fa5b4ab
DTSTAMP:20260423T224130
LOCATION:Paderweg 5\, 33649 Bielefeld (Isselhorst/Holtkamp)
DESCRIPTION:Aus Maschendraht kannst du frei nach deiner Phantasie ein Gefäß formen. Anschließend werden die Maschen mit Heu durchzogen und dann mit Lehm bestrichen oder mit Steckzwiebeln beklebt. Wenn du das Gefäß mit den Steckzwiebeln nach draußen stellst\, wirst du ein grünes Wunder beobachten können.\r\nDer Kurs wird von Agnes Goldapp geleitet.
URL;VALUE=URI:https://www.unser-ferienprogramm.de/guetersloh/veranstaltung.php?id=194460
SUMMARY:Wunderschöne Gefäße – selbst gemacht!
DTSTART;TZID=Europe/Berlin:20260408T090000
END:VEVENT

END:VCALENDAR
