BEGIN:VCALENDAR
VERSION:2.0
PRODID:-//hacksw/handcal//NONSGML v1.0//EN
CALSCALE:GREGORIAN
BEGIN:VTIMEZONE
TZID:Europe/Berlin
X-LIC-LOCATION:Europe/Berlin
BEGIN:DAYLIGHT
TZOFFSETFROM:+0100
TZOFFSETTO:+0200
TZNAME:CEST
DTSTART:19700329T020000
RRULE:FREQ=YEARLY;BYDAY=-1SU;BYMONTH=3
END:DAYLIGHT
BEGIN:STANDARD
TZOFFSETFROM:+0200
TZOFFSETTO:+0100
TZNAME:CET
DTSTART:19701025T030000
RRULE:FREQ=YEARLY;BYDAY=-1SU;BYMONTH=10
END:STANDARD
END:VTIMEZONE
BEGIN:VEVENT
DTEND;TZID=Europe/Berlin:20260402T130000
UID:69ea83f925cd7
DTSTAMP:20260423T224129
LOCATION:Lehrküche Geschwister-Scholl-Realschule\, Am Anger 54\, Gütersloh
DESCRIPTION:Möchtest du ein leckeres Menü aus heimischen Obst- und Gemüsesorten zaubern\, das leicht auch zu Hause nach zu kochen ist?  Auch Ostergebäck ist dabei\, mit dem du deine Eltern überraschen  kannst. Ein Rezeptheft für jeden ist inklusive.\r\nDer Kurs wird von Christel und Günter Ostmeier geleitet.
URL;VALUE=URI:https://www.unser-ferienprogramm.de/guetersloh/veranstaltung.php?id=194457
SUMMARY:Kochen für kleine Leckerschmecker 
DTSTART;TZID=Europe/Berlin:20260402T100000
END:VEVENT

END:VCALENDAR
