BEGIN:VCALENDAR
VERSION:2.0
PRODID:-//hacksw/handcal//NONSGML v1.0//EN
CALSCALE:GREGORIAN
BEGIN:VTIMEZONE
TZID:Europe/Berlin
X-LIC-LOCATION:Europe/Berlin
BEGIN:DAYLIGHT
TZOFFSETFROM:+0100
TZOFFSETTO:+0200
TZNAME:CEST
DTSTART:19700329T020000
RRULE:FREQ=YEARLY;BYDAY=-1SU;BYMONTH=3
END:DAYLIGHT
BEGIN:STANDARD
TZOFFSETFROM:+0200
TZOFFSETTO:+0100
TZNAME:CET
DTSTART:19701025T030000
RRULE:FREQ=YEARLY;BYDAY=-1SU;BYMONTH=10
END:STANDARD
END:VTIMEZONE
BEGIN:VEVENT
DTEND;TZID=Europe/Berlin:20260407T160000
UID:69ea951809b55
DTSTAMP:20260423T235432
LOCATION:Bolzplatz an der Ohmstraße bei Hausnummer 32
DESCRIPTION:Fußballfans aufgepasst! In den Osterferien bietet die Mobile Jugendarbeit wieder Streetsoccer-Turniere an. Du kannst dich einzeln oder mit deinen Freundinnen/Freunden als Team anmelden. Gespielt wird drei gegen drei. Die Spieler des Siegerteams und der fairsten Mannschaft bekommen jeweils einen kleinen Pokal und eine Urkunde. Dazu gibt es für jedes Spiel eine Fairplay-Wertung nach Punkten. Und wer die meisten Tore schießt\, bekommt auch einen Pokal. \r\n\r\nWir sind zu Gast in Spexard und bauen unsere Anlage auf dem Kunstrasenplatz vom Bolzplatz an der Ohmstraße auf.\r\n\r\nWir spielen zwei Turniere nach Alter gestaffelt:\r\n14:00 Uhr – 16:00 Uhr ab ca. 8 Jahre\r\n16:00 Uhr – 18:00 Uhr ab 12 Jahre
URL;VALUE=URI:https://www.unser-ferienprogramm.de/guetersloh/veranstaltung.php?id=194080
SUMMARY:Streetsoccer on Tour -   Bolzplatz Ohmstraßen (8-11 Jahre/2)
DTSTART;TZID=Europe/Berlin:20260407T140000
END:VEVENT

END:VCALENDAR
