BEGIN:VCALENDAR
VERSION:2.0
PRODID:-//hacksw/handcal//NONSGML v1.0//EN
CALSCALE:GREGORIAN
BEGIN:VTIMEZONE
TZID:Europe/Berlin
X-LIC-LOCATION:Europe/Berlin
BEGIN:DAYLIGHT
TZOFFSETFROM:+0100
TZOFFSETTO:+0200
TZNAME:CEST
DTSTART:19700329T020000
RRULE:FREQ=YEARLY;BYDAY=-1SU;BYMONTH=3
END:DAYLIGHT
BEGIN:STANDARD
TZOFFSETFROM:+0200
TZOFFSETTO:+0100
TZNAME:CET
DTSTART:19701025T030000
RRULE:FREQ=YEARLY;BYDAY=-1SU;BYMONTH=10
END:STANDARD
END:VTIMEZONE
BEGIN:VEVENT
DTEND;TZID=Europe/Berlin:20260330T180000
UID:69ea81f59c149
DTSTAMP:20260423T223253
LOCATION:Sporthalle der Mosaikschule\, Im Reke 4
DESCRIPTION:
URL;VALUE=URI:https://www.unser-ferienprogramm.de/guetersloh/veranstaltung.php?id=193542
SUMMARY:Judo
DTSTART;TZID=Europe/Berlin:20260330T160000
END:VEVENT


BEGIN:VEVENT
DTEND;TZID=Europe/Berlin:20260331T180000
UID:69ea81f59c1601
DTSTAMP:20260423T223253
LOCATION:Sporthalle der Mosaikschule\, Im Reke 4
DESCRIPTION:
URL;VALUE=URI:https://www.unser-ferienprogramm.de/guetersloh/veranstaltung.php?id=193542
SUMMARY:Judo
DTSTART;TZID=Europe/Berlin:20260331T160000
END:VEVENT


BEGIN:VEVENT
DTEND;TZID=Europe/Berlin:20260401T180000
UID:69ea81f59c16b2
DTSTAMP:20260423T223253
LOCATION:Sporthalle der Mosaikschule\, Im Reke 4
DESCRIPTION:
URL;VALUE=URI:https://www.unser-ferienprogramm.de/guetersloh/veranstaltung.php?id=193542
SUMMARY:Judo
DTSTART;TZID=Europe/Berlin:20260401T160000
END:VEVENT


BEGIN:VEVENT
DTEND;TZID=Europe/Berlin:20260402T180000
UID:69ea81f59c1753
DTSTAMP:20260423T223253
LOCATION:Sporthalle der Mosaikschule\, Im Reke 4
DESCRIPTION:
URL;VALUE=URI:https://www.unser-ferienprogramm.de/guetersloh/veranstaltung.php?id=193542
SUMMARY:Judo
DTSTART;TZID=Europe/Berlin:20260402T160000
END:VEVENT

END:VCALENDAR
