BEGIN:VCALENDAR
VERSION:2.0
PRODID:-//hacksw/handcal//NONSGML v1.0//EN
CALSCALE:GREGORIAN
BEGIN:VTIMEZONE
TZID:Europe/Berlin
X-LIC-LOCATION:Europe/Berlin
BEGIN:DAYLIGHT
TZOFFSETFROM:+0100
TZOFFSETTO:+0200
TZNAME:CEST
DTSTART:19700329T020000
RRULE:FREQ=YEARLY;BYDAY=-1SU;BYMONTH=3
END:DAYLIGHT
BEGIN:STANDARD
TZOFFSETFROM:+0200
TZOFFSETTO:+0100
TZNAME:CET
DTSTART:19701025T030000
RRULE:FREQ=YEARLY;BYDAY=-1SU;BYMONTH=10
END:STANDARD
END:VTIMEZONE
BEGIN:VEVENT
DTEND;TZID=Europe/Berlin:20260409T170000
UID:69ea83f19e2be
DTSTAMP:20260423T224121
LOCATION:Stadtbibliothek Gütersloh GmbH\, Blessenstätte 1
DESCRIPTION:Hast du schon mit alten CD's und alltäglichen Materialien z.B. Knöpfe\, Farben\, Papier und Federn wunderschöne CD Bilder gestaltet? In unserem Kurs wirst du sicher tolle Ideen entwickeln und staunen\, wie toll die Bilder aussehen.\r\n
URL;VALUE=URI:https://www.unser-ferienprogramm.de/guetersloh/veranstaltung.php?id=193429
SUMMARY:CD-Upcycling für Kids
DTSTART;TZID=Europe/Berlin:20260409T150000
END:VEVENT

END:VCALENDAR
