BEGIN:VCALENDAR
VERSION:2.0
PRODID:-//hacksw/handcal//NONSGML v1.0//EN
CALSCALE:GREGORIAN
BEGIN:VTIMEZONE
TZID:Europe/Berlin
X-LIC-LOCATION:Europe/Berlin
BEGIN:DAYLIGHT
TZOFFSETFROM:+0100
TZOFFSETTO:+0200
TZNAME:CEST
DTSTART:19700329T020000
RRULE:FREQ=YEARLY;BYDAY=-1SU;BYMONTH=3
END:DAYLIGHT
BEGIN:STANDARD
TZOFFSETFROM:+0200
TZOFFSETTO:+0100
TZNAME:CET
DTSTART:19701025T030000
RRULE:FREQ=YEARLY;BYDAY=-1SU;BYMONTH=10
END:STANDARD
END:VTIMEZONE
BEGIN:VEVENT
DTEND;TZID=Europe/Berlin:20260402T130000
UID:69ea83fee829c
DTSTAMP:20260423T224134
LOCATION:Stadtbibliothek Gütersloh GmbH\, Blessenstätte 1
DESCRIPTION:In diesem Kurs bekommst du ganz viele Ideen rund um ein liebevoll gedeckten Frühstückstisch\r\nzu Ostern und zum Muttertag. Von der Tischdekoration über den Eierbecher bis zur Kerze – alles von dir gestaltet. Da wird nicht nur die Mama staunen\, sondern auch der Osterhase.\r\n\r\n
URL;VALUE=URI:https://www.unser-ferienprogramm.de/guetersloh/veranstaltung.php?id=193424
SUMMARY:Festlich gedeckter Tisch zu Ostern und Muttertag
DTSTART;TZID=Europe/Berlin:20260402T110000
END:VEVENT

END:VCALENDAR
