BEGIN:VCALENDAR
VERSION:2.0
PRODID:-//hacksw/handcal//NONSGML v1.0//EN
CALSCALE:GREGORIAN
BEGIN:VTIMEZONE
TZID:Europe/Berlin
X-LIC-LOCATION:Europe/Berlin
BEGIN:DAYLIGHT
TZOFFSETFROM:+0100
TZOFFSETTO:+0200
TZNAME:CEST
DTSTART:19700329T020000
RRULE:FREQ=YEARLY;BYDAY=-1SU;BYMONTH=3
END:DAYLIGHT
BEGIN:STANDARD
TZOFFSETFROM:+0200
TZOFFSETTO:+0100
TZNAME:CET
DTSTART:19701025T030000
RRULE:FREQ=YEARLY;BYDAY=-1SU;BYMONTH=10
END:STANDARD
END:VTIMEZONE
BEGIN:VEVENT
DTEND;TZID=Europe/Berlin:20260508T183000
UID:69e752952868c
DTSTAMP:20260421T123357
LOCATION:Groß Förste JugendTreff\, Beverinstr. 6\, 31180 Groß Förste
DESCRIPTION:Freitag findet unsere Nähwerkstatt in Groß Förste statt\, bei der jung\, alt\, Frauen\, Männer\, Mädchen\, Jungen\, Omas\, Opas\, Mamas\, Papas\, Onkel und Tanten\, einfach alle willkommen sind.\r\n\r\nDu willst mit dem Nähen anfangen\, altes Wissen auffrischen oder kannst uns sogar einige Nähtricks zeigen? Dann bist Du hier genau richtig! An den Nähmaschinen unserer NähWerkstatt entstehen die unterschiedlichsten tollen Dinge. Und auch wenn Du noch nie genäht hast\, Du wirst sehen wie einfach es ist.\r\n\r\nVideo: https://youtu.be/QA9EsGJHjII
URL;VALUE=URI:https://www.unser-ferienprogramm.de/giesen/veranstaltung.php?id=316573
SUMMARY:NähCommunity - Die Nähwerkstatt
DTSTART;TZID=Europe/Berlin:20260508T163000
END:VEVENT

END:VCALENDAR
