BEGIN:VCALENDAR
VERSION:2.0
PRODID:-//hacksw/handcal//NONSGML v1.0//EN
CALSCALE:GREGORIAN
BEGIN:VTIMEZONE
TZID:Europe/Berlin
X-LIC-LOCATION:Europe/Berlin
BEGIN:DAYLIGHT
TZOFFSETFROM:+0100
TZOFFSETTO:+0200
TZNAME:CEST
DTSTART:19700329T020000
RRULE:FREQ=YEARLY;BYDAY=-1SU;BYMONTH=3
END:DAYLIGHT
BEGIN:STANDARD
TZOFFSETFROM:+0200
TZOFFSETTO:+0100
TZNAME:CET
DTSTART:19701025T030000
RRULE:FREQ=YEARLY;BYDAY=-1SU;BYMONTH=10
END:STANDARD
END:VTIMEZONE
BEGIN:VEVENT
DTEND;TZID=Europe/Berlin:20260507T180000
UID:69e768b701cc1
DTSTAMP:20260421T140823
LOCATION:Ahrbergen JugendTreff\, Krugstr. 4a\, 31180 Ahrbergen
DESCRIPTION:Die JugendGalerie - Kreativ - Multikulturell - Generationsübergreifend\r\nKünstlerisches Malen und Zeichnen. Probiere dich einfach aus. Der Künstler und Integrationsbeauftragte Aimall Sharifi wird dich bei Deinen Ideen begleiten und kann dir künstlerische Tipps und Tricks zeigen. Vielleicht findet man deine Bilder irgendwann zwischen denen von Vincent van Gogh\, Pablo Picasso oder Frida Kahlo. Du kannst Dich an einer Staffelei mit Farben in Kreide oder Acryl austoben und mit den passenden Werkzeugen bekommst du Raum & Zeit für deine kreativen Ideen. Bilder von Aimall Sharifi sind im JugendTreff Ahrbergen ausgestellt. Ältere kunstschaffende Personen\, können sich ebenfalls in unserer JugendGalerie austoben. Unser Traum ist ein Raum für generationsübergreifende\, multikulturelle\, künstlerische Entfaltung\, bei der alle voneinander profitieren. Im Vordergrund steht unsere Jugend\, umgeben von Künstlern und* Künstlerinnen\, die gern junge Menschen inspirieren und sich von ihnen inspirieren lassen.\r\n
URL;VALUE=URI:https://www.unser-ferienprogramm.de/giesen/veranstaltung.php?id=316569
SUMMARY:JugendGalerie - Künstlerisch mit Farben
DTSTART;TZID=Europe/Berlin:20260507T160000
END:VEVENT

END:VCALENDAR
