BEGIN:VCALENDAR
VERSION:2.0
PRODID:-//hacksw/handcal//NONSGML v1.0//EN
CALSCALE:GREGORIAN
BEGIN:VTIMEZONE
TZID:Europe/Berlin
X-LIC-LOCATION:Europe/Berlin
BEGIN:DAYLIGHT
TZOFFSETFROM:+0100
TZOFFSETTO:+0200
TZNAME:CEST
DTSTART:19700329T020000
RRULE:FREQ=YEARLY;BYDAY=-1SU;BYMONTH=3
END:DAYLIGHT
BEGIN:STANDARD
TZOFFSETFROM:+0200
TZOFFSETTO:+0100
TZNAME:CET
DTSTART:19701025T030000
RRULE:FREQ=YEARLY;BYDAY=-1SU;BYMONTH=10
END:STANDARD
END:VTIMEZONE
BEGIN:VEVENT
DTEND;TZID=Europe/Berlin:20260421T180000
UID:69e9dd52f1d64
DTSTAMP:20260423T105026
LOCATION:Hasede JugendTreff\; Dechant-Bluel-Str. 37\; 31180 Hasede
DESCRIPTION:Programmieren lernen ganz einfach mit "Scratch".\r\nNico\, Experte für Softwareentwicklung\, zeigt dir wie Du mit Scratch programmieren kannst. Er zeigt dir wie du Spiele oder kleine Animationsfilme programmierst. Bei weiteren Treffen kannst Du\, ungefähr alle 2 Wochen\, immer montags\, deine Projekte weiter entwickeln.
URL;VALUE=URI:https://www.unser-ferienprogramm.de/giesen/veranstaltung.php?id=316564
SUMMARY:Let´s Code - Montag 20.04. NICHT 21.04. das ist nur damit noch angemeldet werden kann. Programmieren lernen mit Scratch
DTSTART;TZID=Europe/Berlin:20260421T153000
END:VEVENT

END:VCALENDAR
