BEGIN:VCALENDAR
VERSION:2.0
PRODID:-//hacksw/handcal//NONSGML v1.0//EN
CALSCALE:GREGORIAN
BEGIN:VTIMEZONE
TZID:Europe/Berlin
X-LIC-LOCATION:Europe/Berlin
BEGIN:DAYLIGHT
TZOFFSETFROM:+0100
TZOFFSETTO:+0200
TZNAME:CEST
DTSTART:19700329T020000
RRULE:FREQ=YEARLY;BYDAY=-1SU;BYMONTH=3
END:DAYLIGHT
BEGIN:STANDARD
TZOFFSETFROM:+0200
TZOFFSETTO:+0100
TZNAME:CET
DTSTART:19701025T030000
RRULE:FREQ=YEARLY;BYDAY=-1SU;BYMONTH=10
END:STANDARD
END:VTIMEZONE
BEGIN:VEVENT
DTEND;TZID=Europe/Berlin:20260422T183000
UID:69e7529792379
DTSTAMP:20260421T123359
LOCATION:Ahrbergen JugendTreff\, Krugstr. 4a\, 31180 Ahrbergen
DESCRIPTION:Liebst du es\, kreativ zu sein? Dann ist unser BügelperlenDesignStudio genau das Richtige für dich!\r\n\r\nMit Hilfe eines Bügeleisens kannst du aus Bügelperlen deine eigenen Fantasien verwirklichen! 
URL;VALUE=URI:https://www.unser-ferienprogramm.de/giesen/veranstaltung.php?id=313428
SUMMARY:Bügelperlen
DTSTART;TZID=Europe/Berlin:20260422T163000
END:VEVENT

END:VCALENDAR
