BEGIN:VCALENDAR
VERSION:2.0
PRODID:-//hacksw/handcal//NONSGML v1.0//EN
CALSCALE:GREGORIAN
BEGIN:VTIMEZONE
TZID:Europe/Berlin
X-LIC-LOCATION:Europe/Berlin
BEGIN:DAYLIGHT
TZOFFSETFROM:+0100
TZOFFSETTO:+0200
TZNAME:CEST
DTSTART:19700329T020000
RRULE:FREQ=YEARLY;BYDAY=-1SU;BYMONTH=3
END:DAYLIGHT
BEGIN:STANDARD
TZOFFSETFROM:+0200
TZOFFSETTO:+0100
TZNAME:CET
DTSTART:19701025T030000
RRULE:FREQ=YEARLY;BYDAY=-1SU;BYMONTH=10
END:STANDARD
END:VTIMEZONE
BEGIN:VEVENT
DTEND;TZID=Europe/Berlin:20260531T010000
UID:69e768b842ae5
DTSTAMP:20260421T140824
LOCATION:
DESCRIPTION:Eltern-Action: Wir haben 4 Jugendtreffs und 1 Jugendzentrum.\r\nGibt es dafür Eltern\, die nach Absprache an einzelnen Tagen\, ehrenamtlich einen Jugendtreff betreuen würden?\r\n\r\nWir möchten dazu eine Info- und Brainstormingveranstaltung mit euch durchführen (Termin dafür stimmen wir mit euch ab).\r\n\r\nDie Idee: Wir können eine Jugendleitendenausbildung für Eltern/Erwachsene etc. anbieten\, die dann nach entsprechender 40 stündiger Ausbildung eine offizielle Jugendleitenden-Card des Landesjugendrings Niedersachsen erlangen. Vielleicht gibt es noch andere Ideen von euch dazu.\r\n\r\nTraumvorstellung: Eltern helfen in unterschiedlichsten Konstellationen (allein/zusammen/im Wechsel/?) unsere Raumpotentiale weiter auszuschöpfen\, um somit zudem die Relevanz unser Räume zu erhöhen. Habt ihr noch andere Ideen\, wie wir unsere Räume jungen Menschen zur Verfügung stellen können?\r\n\r\nInteressierte Eltern und Andere Erwachsene\, bitte euch selbst in der üblichen Anmeldesoftware als Teilnehmende hinzufügen (quasi euch selbst\, als euer eigenes Kind).\r\n\r\nIhr könnt auch gern weiteren Leuten bescheid geben. Die können und dazu auch einfach nur anrufen oder whatsappen 01708683150\, wenn sie Nupian unsere Anmeldesoftware nicht nutzen.\r\n\r\nWir informieren dann später per Mail über weitere Schritte
URL;VALUE=URI:https://www.unser-ferienprogramm.de/giesen/veranstaltung.php?id=310789
SUMMARY:Info-Veranstaltung: Helfende Eltern & Andere: Terminfindung mit euch
DTSTART;TZID=Europe/Berlin:20260531T000000
END:VEVENT

END:VCALENDAR
