BEGIN:VCALENDAR
VERSION:2.0
PRODID:-//hacksw/handcal//NONSGML v1.0//EN
CALSCALE:GREGORIAN
BEGIN:VTIMEZONE
TZID:Europe/Berlin
X-LIC-LOCATION:Europe/Berlin
BEGIN:DAYLIGHT
TZOFFSETFROM:+0100
TZOFFSETTO:+0200
TZNAME:CEST
DTSTART:19700329T020000
RRULE:FREQ=YEARLY;BYDAY=-1SU;BYMONTH=3
END:DAYLIGHT
BEGIN:STANDARD
TZOFFSETFROM:+0200
TZOFFSETTO:+0100
TZNAME:CET
DTSTART:19701025T030000
RRULE:FREQ=YEARLY;BYDAY=-1SU;BYMONTH=10
END:STANDARD
END:VTIMEZONE
BEGIN:VEVENT
DTEND;TZID=Europe/Berlin:20260807T150000
UID:69e74736080d3
DTSTAMP:20260421T114526
LOCATION:Sport- und Mehrzweckhalle\, Emmerker Str. 6\, 31180 Giesen
DESCRIPTION:3 Wochen verlässliche Betreuung. Unser "Dinner for fun" ist eine Ergänzung zu unserem "Sport & Spiel"-Angebot. In erster Linie richtet sich dieses Angebot an Familien\, die das Bedürfnis haben\, ihre Kinder noch nach unserem "Sport & Spiel & SPUNK" bis 15 Uhr betreut zu bekommen\, da sie z. B. beruflich involviert sind. Aber auch einfach aus der Freude an Gemeinschaft mit anderen Ferienkindern in der Ferienzeit\, kann dieses Angebot wahrgenommen werden. Es wird gemeinsam dinniert\, es gibt Bastelmöglichkeiten\, eine Spieleecke und wer noch nicht genug hat\, der/die kann sich weiterhin sportlich betätigen. 
URL;VALUE=URI:https://www.unser-ferienprogramm.de/giesen/veranstaltung.php?id=278430
SUMMARY:!!!2026!!! Dinner for fun (3 Wochen Mittagstisch + verlässliche Betreuung von Montag - Freitag)
DTSTART;TZID=Europe/Berlin:20260720T123000
END:VEVENT

END:VCALENDAR
