BEGIN:VCALENDAR
VERSION:2.0
PRODID:-//hacksw/handcal//NONSGML v1.0//EN
CALSCALE:GREGORIAN
BEGIN:VTIMEZONE
TZID:Europe/Berlin
X-LIC-LOCATION:Europe/Berlin
BEGIN:DAYLIGHT
TZOFFSETFROM:+0100
TZOFFSETTO:+0200
TZNAME:CEST
DTSTART:19700329T020000
RRULE:FREQ=YEARLY;BYDAY=-1SU;BYMONTH=3
END:DAYLIGHT
BEGIN:STANDARD
TZOFFSETFROM:+0200
TZOFFSETTO:+0100
TZNAME:CET
DTSTART:19701025T030000
RRULE:FREQ=YEARLY;BYDAY=-1SU;BYMONTH=10
END:STANDARD
END:VTIMEZONE
BEGIN:VEVENT
DTEND;TZID=Europe/Berlin:20260807T123000
UID:69e7544c2904a
DTSTAMP:20260421T124116
LOCATION:Sport- und Mehrzweckhalle\, Emmerker Str. 6\, 31180 Giesen
DESCRIPTION:3 Wochen verlässliche Betreuung\, wie immer in den letzten 3 ganzen Ferienwochen (nicht an den letzten 3 Tagen vor Schulbeginn)\r\nAber "SPO-SPI" wird mehr als Turnhallen-Action sein. Indoor\, Outdoor\, Abenteuer\, Kreativität\, Mini-Aktionen über den Giesener-Tellerrand hinaus. Spontan an Wetterlagen angepasst und auch an eure Ideen die ihr mit einbringen könnt. Zusatzveranstaltungen wie zum Beispiel "Schwimmen gehen". Kommt einfach und feiert mit uns 3 Wochen "SPO-SPI". 
URL;VALUE=URI:https://www.unser-ferienprogramm.de/giesen/veranstaltung.php?id=278429
SUMMARY:!!!2026!!!Sport & Spiel (3 Wochen verlässliche Betreuung von Montag - Freitag)
DTSTART;TZID=Europe/Berlin:20260720T093000
END:VEVENT

END:VCALENDAR
