BEGIN:VCALENDAR
VERSION:2.0
PRODID:-//hacksw/handcal//NONSGML v1.0//EN
CALSCALE:GREGORIAN
BEGIN:VTIMEZONE
TZID:Europe/Berlin
X-LIC-LOCATION:Europe/Berlin
BEGIN:DAYLIGHT
TZOFFSETFROM:+0100
TZOFFSETTO:+0200
TZNAME:CEST
DTSTART:19700329T020000
RRULE:FREQ=YEARLY;BYDAY=-1SU;BYMONTH=3
END:DAYLIGHT
BEGIN:STANDARD
TZOFFSETFROM:+0200
TZOFFSETTO:+0100
TZNAME:CET
DTSTART:19701025T030000
RRULE:FREQ=YEARLY;BYDAY=-1SU;BYMONTH=10
END:STANDARD
END:VTIMEZONE
BEGIN:VEVENT
DTEND;TZID=Europe/Berlin:20260319T180000
UID:69ea66ebb821a
DTSTAMP:20260423T203731
LOCATION:Van- Galen Sporthalle 
DESCRIPTION: In diesem Sportangebot entdecken Jugendliche ab 12 Jahren ihre eigne Stärke durch abwechslungsreiche Übungen\, Parcours und Team- Challenges. Im Fokus stehen Spaß an Bewegung\, ein positives Körpergefühl und Selbstbewusstsein - ganz ohne Leistungsdruck. Das Angebot ist für alle geeignet\, auch ohne Vorerfahrung. 
URL;VALUE=URI:https://www.unser-ferienprogramm.de/gescher/veranstaltung.php?id=305753
SUMMARY:Strong Teens - Kraft\, Selbstbewusstsein\, Spaß ganz ohne Druck 
DTSTART;TZID=Europe/Berlin:20260319T170000
END:VEVENT


BEGIN:VEVENT
DTEND;TZID=Europe/Berlin:20260326T180000
UID:69ea66ebb82331
DTSTAMP:20260423T203731
LOCATION:Van- Galen Sporthalle 
DESCRIPTION: In diesem Sportangebot entdecken Jugendliche ab 12 Jahren ihre eigne Stärke durch abwechslungsreiche Übungen\, Parcours und Team- Challenges. Im Fokus stehen Spaß an Bewegung\, ein positives Körpergefühl und Selbstbewusstsein - ganz ohne Leistungsdruck. Das Angebot ist für alle geeignet\, auch ohne Vorerfahrung. 
URL;VALUE=URI:https://www.unser-ferienprogramm.de/gescher/veranstaltung.php?id=305753
SUMMARY:Strong Teens - Kraft\, Selbstbewusstsein\, Spaß ganz ohne Druck 
DTSTART;TZID=Europe/Berlin:20260326T170000
END:VEVENT


BEGIN:VEVENT
DTEND;TZID=Europe/Berlin:20260402T180000
UID:69ea66ebb82432
DTSTAMP:20260423T203731
LOCATION:Van- Galen Sporthalle 
DESCRIPTION: In diesem Sportangebot entdecken Jugendliche ab 12 Jahren ihre eigne Stärke durch abwechslungsreiche Übungen\, Parcours und Team- Challenges. Im Fokus stehen Spaß an Bewegung\, ein positives Körpergefühl und Selbstbewusstsein - ganz ohne Leistungsdruck. Das Angebot ist für alle geeignet\, auch ohne Vorerfahrung. 
URL;VALUE=URI:https://www.unser-ferienprogramm.de/gescher/veranstaltung.php?id=305753
SUMMARY:Strong Teens - Kraft\, Selbstbewusstsein\, Spaß ganz ohne Druck 
DTSTART;TZID=Europe/Berlin:20260402T170000
END:VEVENT


BEGIN:VEVENT
DTEND;TZID=Europe/Berlin:20260409T180000
UID:69ea66ebb824c3
DTSTAMP:20260423T203731
LOCATION:Van- Galen Sporthalle 
DESCRIPTION: In diesem Sportangebot entdecken Jugendliche ab 12 Jahren ihre eigne Stärke durch abwechslungsreiche Übungen\, Parcours und Team- Challenges. Im Fokus stehen Spaß an Bewegung\, ein positives Körpergefühl und Selbstbewusstsein - ganz ohne Leistungsdruck. Das Angebot ist für alle geeignet\, auch ohne Vorerfahrung. 
URL;VALUE=URI:https://www.unser-ferienprogramm.de/gescher/veranstaltung.php?id=305753
SUMMARY:Strong Teens - Kraft\, Selbstbewusstsein\, Spaß ganz ohne Druck 
DTSTART;TZID=Europe/Berlin:20260409T170000
END:VEVENT


BEGIN:VEVENT
DTEND;TZID=Europe/Berlin:20260416T180000
UID:69ea66ebb82554
DTSTAMP:20260423T203731
LOCATION:Van- Galen Sporthalle 
DESCRIPTION: In diesem Sportangebot entdecken Jugendliche ab 12 Jahren ihre eigne Stärke durch abwechslungsreiche Übungen\, Parcours und Team- Challenges. Im Fokus stehen Spaß an Bewegung\, ein positives Körpergefühl und Selbstbewusstsein - ganz ohne Leistungsdruck. Das Angebot ist für alle geeignet\, auch ohne Vorerfahrung. 
URL;VALUE=URI:https://www.unser-ferienprogramm.de/gescher/veranstaltung.php?id=305753
SUMMARY:Strong Teens - Kraft\, Selbstbewusstsein\, Spaß ganz ohne Druck 
DTSTART;TZID=Europe/Berlin:20260416T170000
END:VEVENT


BEGIN:VEVENT
DTEND;TZID=Europe/Berlin:20260423T180000
UID:69ea66ebb825f5
DTSTAMP:20260423T203731
LOCATION:Van- Galen Sporthalle 
DESCRIPTION: In diesem Sportangebot entdecken Jugendliche ab 12 Jahren ihre eigne Stärke durch abwechslungsreiche Übungen\, Parcours und Team- Challenges. Im Fokus stehen Spaß an Bewegung\, ein positives Körpergefühl und Selbstbewusstsein - ganz ohne Leistungsdruck. Das Angebot ist für alle geeignet\, auch ohne Vorerfahrung. 
URL;VALUE=URI:https://www.unser-ferienprogramm.de/gescher/veranstaltung.php?id=305753
SUMMARY:Strong Teens - Kraft\, Selbstbewusstsein\, Spaß ganz ohne Druck 
DTSTART;TZID=Europe/Berlin:20260423T170000
END:VEVENT

END:VCALENDAR
