BEGIN:VCALENDAR
VERSION:2.0
PRODID:-//hacksw/handcal//NONSGML v1.0//EN
CALSCALE:GREGORIAN
BEGIN:VTIMEZONE
TZID:Europe/Berlin
X-LIC-LOCATION:Europe/Berlin
BEGIN:DAYLIGHT
TZOFFSETFROM:+0100
TZOFFSETTO:+0200
TZNAME:CEST
DTSTART:19700329T020000
RRULE:FREQ=YEARLY;BYDAY=-1SU;BYMONTH=3
END:DAYLIGHT
BEGIN:STANDARD
TZOFFSETFROM:+0200
TZOFFSETTO:+0100
TZNAME:CET
DTSTART:19701025T030000
RRULE:FREQ=YEARLY;BYDAY=-1SU;BYMONTH=10
END:STANDARD
END:VTIMEZONE
BEGIN:VEVENT
DTEND;TZID=Europe/Berlin:20260417T173000
UID:69ea65ad46792
DTSTAMP:20260423T203213
LOCATION:
DESCRIPTION: In der Herde können wir beobachten\, wie die Pferde untereinander kommunizieren. Wie nähern wir uns einem Pferd und wie machen wir auf uns aufmerksam\, ohne es zu erschrecken? Wie gelingt es uns\, die Rolle eines Herdenchefs zu übernehmen und einem Pferd Sicherheit zu geben? Wenn wir es geschafft haben\, dass das Pferd uns folgt\, können wir es putzen und uns mit ihm beschäftigen. Gemeinsam bauen wir einen Parcours auf und bewältigen diesen mit unseren einst „wild“ geborenen Ponys. Wir lernen\, was Pferde gerne fressen  und wie sie am liebsten  leben.  
URL;VALUE=URI:https://www.unser-ferienprogramm.de/gescher/veranstaltung.php?id=302080
SUMMARY:Vertrauen\, Kommunikation und Gemeinschaft – Die Welt der Pferde entdecken
DTSTART;TZID=Europe/Berlin:20260417T153000
END:VEVENT


BEGIN:VEVENT
DTEND;TZID=Europe/Berlin:20260422T173000
UID:69ea65ad467aa1
DTSTAMP:20260423T203213
LOCATION:
DESCRIPTION: In der Herde können wir beobachten\, wie die Pferde untereinander kommunizieren. Wie nähern wir uns einem Pferd und wie machen wir auf uns aufmerksam\, ohne es zu erschrecken? Wie gelingt es uns\, die Rolle eines Herdenchefs zu übernehmen und einem Pferd Sicherheit zu geben? Wenn wir es geschafft haben\, dass das Pferd uns folgt\, können wir es putzen und uns mit ihm beschäftigen. Gemeinsam bauen wir einen Parcours auf und bewältigen diesen mit unseren einst „wild“ geborenen Ponys. Wir lernen\, was Pferde gerne fressen  und wie sie am liebsten  leben.  
URL;VALUE=URI:https://www.unser-ferienprogramm.de/gescher/veranstaltung.php?id=302080
SUMMARY:Vertrauen\, Kommunikation und Gemeinschaft – Die Welt der Pferde entdecken
DTSTART;TZID=Europe/Berlin:20260422T153000
END:VEVENT


BEGIN:VEVENT
DTEND;TZID=Europe/Berlin:20260424T173000
UID:69ea65ad467b72
DTSTAMP:20260423T203213
LOCATION:
DESCRIPTION: In der Herde können wir beobachten\, wie die Pferde untereinander kommunizieren. Wie nähern wir uns einem Pferd und wie machen wir auf uns aufmerksam\, ohne es zu erschrecken? Wie gelingt es uns\, die Rolle eines Herdenchefs zu übernehmen und einem Pferd Sicherheit zu geben? Wenn wir es geschafft haben\, dass das Pferd uns folgt\, können wir es putzen und uns mit ihm beschäftigen. Gemeinsam bauen wir einen Parcours auf und bewältigen diesen mit unseren einst „wild“ geborenen Ponys. Wir lernen\, was Pferde gerne fressen  und wie sie am liebsten  leben.  
URL;VALUE=URI:https://www.unser-ferienprogramm.de/gescher/veranstaltung.php?id=302080
SUMMARY:Vertrauen\, Kommunikation und Gemeinschaft – Die Welt der Pferde entdecken
DTSTART;TZID=Europe/Berlin:20260424T153000
END:VEVENT

END:VCALENDAR
