BEGIN:VCALENDAR
VERSION:2.0
PRODID:-//hacksw/handcal//NONSGML v1.0//EN
CALSCALE:GREGORIAN
BEGIN:VTIMEZONE
TZID:Europe/Berlin
X-LIC-LOCATION:Europe/Berlin
BEGIN:DAYLIGHT
TZOFFSETFROM:+0100
TZOFFSETTO:+0200
TZNAME:CEST
DTSTART:19700329T020000
RRULE:FREQ=YEARLY;BYDAY=-1SU;BYMONTH=3
END:DAYLIGHT
BEGIN:STANDARD
TZOFFSETFROM:+0200
TZOFFSETTO:+0100
TZNAME:CET
DTSTART:19701025T030000
RRULE:FREQ=YEARLY;BYDAY=-1SU;BYMONTH=10
END:STANDARD
END:VTIMEZONE
BEGIN:VEVENT
DTEND;TZID=Europe/Berlin:20260525T000000
UID:69ea65cc09c3b
DTSTAMP:20260423T203244
LOCATION:
DESCRIPTION:Das Pfingstlager ist eine coole Wochenendaktion für alle Kinder im Alter von 7-15 Jahren\, die es mögen im Frühsommer zu campen und eine ereignisreiche Zeit am Lagerfeuer und in der Natur zu genießen. Zusammen mit den Kindern verbringen wir jedes Jahr wieder eine coole Zeit.\r\nWir fahren am Samstagmorgen mit dem Rad in Gescher los und verbringen die zwei Nächte in der näheren Umgebung auf einem Hof in den Bauernschaften.\r\nFür weitere Infos meldet euch gerne bei der Lagerleitung oder schaut auf unserer Internetseite vorbei und meldet euch direkt über den Link an.\r\n
URL;VALUE=URI:https://www.unser-ferienprogramm.de/gescher/veranstaltung.php?id=301956
SUMMARY:Pfingstlager der Messdiener Gescher
DTSTART;TZID=Europe/Berlin:20260523T000000
END:VEVENT

END:VCALENDAR
