BEGIN:VCALENDAR
VERSION:2.0
PRODID:-//hacksw/handcal//NONSGML v1.0//EN
CALSCALE:GREGORIAN
BEGIN:VTIMEZONE
TZID:Europe/Berlin
X-LIC-LOCATION:Europe/Berlin
BEGIN:DAYLIGHT
TZOFFSETFROM:+0100
TZOFFSETTO:+0200
TZNAME:CEST
DTSTART:19700329T020000
RRULE:FREQ=YEARLY;BYDAY=-1SU;BYMONTH=3
END:DAYLIGHT
BEGIN:STANDARD
TZOFFSETFROM:+0200
TZOFFSETTO:+0100
TZNAME:CET
DTSTART:19701025T030000
RRULE:FREQ=YEARLY;BYDAY=-1SU;BYMONTH=10
END:STANDARD
END:VTIMEZONE
BEGIN:VEVENT
DTEND;TZID=Europe/Berlin:20260605T160000
UID:69ea65dd81672
DTSTAMP:20260423T203301
LOCATION:
DESCRIPTION:Hast du Lust auf einen Tag voller Spaß\, Abenteuer und Überraschungen?\r\nDann komm mit uns in den neuen Indoor-Freizeitpark Brommelwereld!\r\n\r\nDort gibt es jede Menge zu entdecken: spannende Spielwelten\, tolle Attraktionen und ganz viel Platz zum Toben\, Klettern\, Rutschen und Lachen. Egal ob mutig oder neugierig\, hier ist für jede und jeden etwas dabei! \r\nGemeinsam verbringen wir einen aufregenden Tag mit vielen anderen Kindern\, erleben coole Abenteuer und sammeln unvergessliche Erinnerungen. Natürlich sind unsere Betreuer immer dabei und sorgen dafür\, dass sich alle wohlfühlen. \r\n\r\nEin Ausflug voller Spiel\, Spaß und guter Laune\, den darfst du nicht verpassen!
URL;VALUE=URI:https://www.unser-ferienprogramm.de/gescher/veranstaltung.php?id=301943
SUMMARY:Entdecke mit uns den faszinierenden neuen Indoor-Freizeitpark Brommelwereld.
DTSTART;TZID=Europe/Berlin:20260605T084500
END:VEVENT

END:VCALENDAR
