BEGIN:VCALENDAR
VERSION:2.0
PRODID:-//hacksw/handcal//NONSGML v1.0//EN
CALSCALE:GREGORIAN
BEGIN:VTIMEZONE
TZID:Europe/Berlin
X-LIC-LOCATION:Europe/Berlin
BEGIN:DAYLIGHT
TZOFFSETFROM:+0100
TZOFFSETTO:+0200
TZNAME:CEST
DTSTART:19700329T020000
RRULE:FREQ=YEARLY;BYDAY=-1SU;BYMONTH=3
END:DAYLIGHT
BEGIN:STANDARD
TZOFFSETFROM:+0200
TZOFFSETTO:+0100
TZNAME:CET
DTSTART:19701025T030000
RRULE:FREQ=YEARLY;BYDAY=-1SU;BYMONTH=10
END:STANDARD
END:VTIMEZONE
BEGIN:VEVENT
DTEND;TZID=Europe/Berlin:20260712T170000
UID:69ea65d7a82b6
DTSTAMP:20260423T203255
LOCATION:
DESCRIPTION:Unsere Sommeraktion ist immer ein cooler Tagesausflug bei hoffentlich gutem Wetter. Dieses Jahr geht es mit uns in den Ketteler Hof.\r\nEs erwartet euch ein ereignisreicher Tag bei dem ihr zusammen mit einigen Leitern den Park erkunden könnt. Wir freuen uns auf den abenteuerreichen Tag mit euch\r\n
URL;VALUE=URI:https://www.unser-ferienprogramm.de/gescher/veranstaltung.php?id=301619
SUMMARY:Sommeraktion Ketteler Hof der Messdiener Gescher
DTSTART;TZID=Europe/Berlin:20260712T100000
END:VEVENT

END:VCALENDAR
